BEGIN:VCALENDAR
VERSION:2.0
PRODID:-//BPW Switzerland//NONSGML kigkonsult.se iCalcreator 2.16.12//
METHOD:PUBLISH
X-MS-OLK-FORCEINSPECTOROPEN:TRUE
BEGIN:VEVENT
UID:20260422T174304CEST-4775Hb4VL1@BPW Switzerland
DTSTAMP:20260422T154304Z
DESCRIPTION:Wir lernen unsere neuen Mitglieder kennen. Weitere Informatione
 n folgen später.\n\nProgramm:\n18.15 Uhr: Eintreffen und Apéro im Restaura
 nt Plü\n19 Uhr: Abendessen\n20.00 Uhr: Referate\n\nWir freuen uns auf die 
 Referate unserer neuen Mitglieder\, den Austausch mit Euch und einen schön
 en Abend!\n \nHerzliche Grüsse von Euren Vorstandsfrauen Steffi Kessler\, 
 Antje Amrhein Schoch\, Beate-Christin Hastedt\, Corinna Hauri\, Mariella M
 üller\, Rachel Neuhaus Bühler und Evelyne Raissig\n
DTSTART:20260120T181500
DTEND:20260120T220000
LOCATION:Restaurant Plü\, Au Premier
ORGANIZER:MAILTO:BPW Switzerland <admin@bpw-baden.ch>
SUMMARY:Eintrittsreferate von zwei neuen BPW-Mitgliedern
END:VEVENT
END:VCALENDAR
