BEGIN:VCALENDAR
VERSION:2.0
PRODID:-//BPW Switzerland//NONSGML kigkonsult.se iCalcreator 2.16.12//
METHOD:PUBLISH
X-MS-OLK-FORCEINSPECTOROPEN:TRUE
BEGIN:VEVENT
UID:20260422T174351CEST-4578VPIBrh@BPW Switzerland
DTSTAMP:20260422T154351Z
DESCRIPTION:\n\n\nDebora Stoffel\, zertifizierte ganzheitliche Coachin und 
 Expertin für Selbstmitgefühl und Achtsamkeit\, mit Bachelor in Angewandter
  Psychologie.\n\nWas gibt uns Energie\, wenn der Alltag uns fordert? Debor
 a Stoffel zeigt in ihrem Referat auf\, wie Selbstmitgefühl und Achtsamkeit
  zu einem nachhaltigeren\, ganzheitlichen Well-Being beitragen können.\n\n
 Mit einem Fokus auf das Erkennen eigener Bedürfnisse und das Stärken persö
 nlicher Ressourcen lädt sie dazu ein\, Wege zu mehr innerer Balance und Wo
 hlbefinden zu entdecken. Praktische Impulse und fundierte Einblicke aus de
 r Psychologie bieten Inspiration\, wie sich kleine Veränderungen im Alltag
  spürbar auszahlen können. Dabei zeigt sie\, wie Stressbewältigung und ein
  achtsamer\, mitfühlender Umgang mit sich selbst mehr Leichtigkeit in den 
 Alltag bringen können. Debora Stoffel\n\nProgramm:\n18.15 Uhr: Eintreffen 
 und Apéro im Restaurant Plü\n19 Uhr: Abendessen und Referat\n\nWir freuen 
 uns auf ein inspirierendes Referat und einen schönen Abend mit Euch allen!
 \n \nHerzliche Grüsse von Euren Vorstandsfrauen Steffi Kessler\, Antje Amr
 hein Schoch\, Beate-Christin Hastedt\, Corinna Hauri\, Mariella Müller und
  Rachel Neuhaus Bühler.\n \n
DTSTART:20251120T181500
DTEND:20251120T220000
LOCATION:Restaurant Plü
ORGANIZER:MAILTO:BPW Switzerland <admin@bpw-baden.ch>
SUMMARY:Well-Being neu denken
END:VEVENT
END:VCALENDAR
