BEGIN:VCALENDAR
VERSION:2.0
PRODID:-//BPW Switzerland//NONSGML kigkonsult.se iCalcreator 2.16.12//
METHOD:PUBLISH
X-MS-OLK-FORCEINSPECTOROPEN:TRUE
BEGIN:VEVENT
UID:20260422T174940CEST-68529vnk2R@BPW Switzerland
DTSTAMP:20260422T154940Z
DESCRIPTION:\n\nRaquel Herzog\, Gründerin von SAO Association\n\n\nSAO Asso
 ciation führt in Griechenland zwei Tageszentren für geflüchtete Frauen\, M
 ütter und deren Kleinkinder. Die Zentren sind auf professionelle psychosoz
 iale Unterstützung und Integrationsdienstleistungen für besonders verletzt
 liche Frauen spezialisiert. Sie sind auch 'safe space'\, Oasen der Ruhe un
 d Orientierung\, wo die Frauen in einem  sauberen\, abschliessbaren Badezi
 mmer duschen\, Wäsche waschen\, gemeinsam Tee trinken\, Erfahrungen austau
 schen oder Hand- und Flickarbeiten anfertigen können.\n\nZu den Integratio
 nsmassnahmen gehören auch Griechisch- und Englisch-Konversationskurse sowi
 e diverse 'skill-building'-Workshops. Damit erwerben oder festigen sie ihr
 e Fähigkeiten und schaffen so eine Grundlage für ein neues  selbstbestimmt
 es Leben. SAO wurde 2023 mit dem Rotkreuzpreis ausgezeichnet. Raquel Herzo
 g wird uns erzählen\, weshalb sie SAO gegründet hat und gibt uns einen Ein
 blick in die Arbeit der Organisation. SAO Association\n\nProgramm:\n18.15 
 Uhr: Eintreffen und Apéro im Restaurant Plü\n19.00 Uhr: Abendessen\n20.00 
 Uhr: Referat\n\nWir freuen uns auf das anregende Referat\, den Austausch m
 it Euch und einen schönen Abend!\n \nHerzliche Grüsse von Euren Vorstandsf
 rauen Steffi Kessler\, Antje Amrhein Schoch\, Beate-Christin Hastedt\, Cor
 inna Hauri\, Mariella Müller und Rachel Neuhaus Bühler.\n
DTSTART:20250923T181500
DTEND:20250923T220000
LOCATION:Restaurant Plü
ORGANIZER:MAILTO:BPW Switzerland <admin@bpw-baden.ch>
SUMMARY:Well-Being für Frauen auf der Flucht
END:VEVENT
END:VCALENDAR
