BEGIN:VCALENDAR
VERSION:2.0
PRODID:-//BPW Switzerland//NONSGML kigkonsult.se iCalcreator 2.16.12//
METHOD:PUBLISH
X-MS-OLK-FORCEINSPECTOROPEN:TRUE
BEGIN:VEVENT
UID:20260422T173646CEST-2520ip7S9u@BPW Switzerland
DTSTAMP:20260422T153646Z
DESCRIPTION: \n\n\nAndrea Portmann\, Geschäftsführerin TourismusRegion Bade
 n AG\n\nBaden steht seit Jahrhunderten für Gesundheit und Erholung. Jetzt 
 geht die TourismusRegion Baden einen Schritt weiter: Gemeinsam mit lokalen
  Partnern schafft sie eine Plattform\, die Well-Being in den Alltag bringe
 n soll. Warum? Weil mentale Stärke und Selbstfürsorge heute wichtiger sind
  denn je - für die eigene Lebensqualität und für eine zukünftsfähige Gesel
 lschaft. Denn in einer Welt voller Herausforderungen ist es entscheidend\,
  mentale und physische Gesundheit aktiv zu fördern.\n\nIm Vortrag erfahren
  wir von Andrea Portmann\, wie sich Baden als Vorreiterin für Selfcare pos
 itioniert und welche Vision die TourismusRegion Baden für die Zukunft hat\
 , damit die Initiative weit über unsere Destination hinaus Wirkung entfalt
 en kann.\n\nProgramm:\n18.15 Uhr: Apéro im Restaurant Plü\n19.00 Uhr: Refe
 rat\, anschliessend Abendessen\n\nWir freuen uns auf das spannende Referat
  von Andrea Portmann\, den Austausch mit Euch und einen schönen Abend!\n 
 \nHerzliche Grüsse von Euren Vorstandsfrauen Steffi Kessler\, Antje Amrhei
 n Schoch\, Beate-Christin Hastedt\, Corinna Hauri\, Mariella Müller\, Rach
 el Neuhaus Bühler und Evelyne Raissig\n
DTSTART:20250820T181500
DTEND:20250820T220000
LOCATION:Restaurant Plü
ORGANIZER:MAILTO:BPW Switzerland <admin@bpw-baden.ch>
SUMMARY:Well-Being in Baden - Wie eine Stadt zur Bewegung wird
END:VEVENT
END:VCALENDAR
