BEGIN:VCALENDAR
VERSION:2.0
PRODID:-//BPW Switzerland//NONSGML kigkonsult.se iCalcreator 2.16.12//
METHOD:PUBLISH
X-MS-OLK-FORCEINSPECTOROPEN:TRUE
BEGIN:VEVENT
UID:20260422T174250CEST-1937zh3XEo@BPW Switzerland
DTSTAMP:20260422T154250Z
DESCRIPTION:\n\nDer 20. Mai 2025 ist der Weltbienentag. Der BPW Baden freut
  sich\, genau an diesem Tag Lisa Thimm aus Ennetbaden\, eine der über 16'5
 00 Imkerinnen und Imker in der Schweiz\, für ein Referat begrüssen zu dürf
 en.\n\nImkern ist eine Möglichkeit\, eine sinnvolle\, naturnahe und vielse
 itige Beschäftigung auszuführen. Immer mehr Menschen entschliessen sich zu
 r Hobby-Imkerei und stärken so ihre Work-Life-Balance. Führt Well-Beeing z
 u Well-Being? Diese und viele weitere Fragen rund um die Bedeutung der Bie
 nenzucht für uns und für unsere Natur beantwortet uns Lisa Thimm.\n\nProgr
 amm:\n18.15 Uhr: Eintreffen und Apéro im Restaurant Plü\n19 Uhr: Abendesse
 n\n20 Uhr: Referat\n\nWir freuen uns auf das spannende Referat von Lisa Th
 imm\, den Austausch mit Euch und einen schönen Abend!\n \nHerzliche Grüsse
  von Euren Vorstandsfrauen Steffi Kessler\, Antje Amrhein Schoch\, Beate-C
 hristin Hastedt\, Corinna Hauri\, Mariella Müller und Rachel Neuhaus Bühle
 r.\n \n
DTSTART:20250520T181500
DTEND:20250520T220000
LOCATION:Restaurant Plü
ORGANIZER:MAILTO:BPW Switzerland <admin@bpw-baden.ch>
SUMMARY:Well-BEEing? 
END:VEVENT
END:VCALENDAR
