BEGIN:VCALENDAR
VERSION:2.0
PRODID:-//BPW Switzerland//NONSGML kigkonsult.se iCalcreator 2.16.12//
METHOD:PUBLISH
X-MS-OLK-FORCEINSPECTOROPEN:TRUE
BEGIN:VEVENT
UID:20260422T190416CEST-5241gKNORW@BPW Switzerland
DTSTAMP:20260422T170416Z
DESCRIPTION:Mit Mitgliedern des Vereins Bagni Popolari\n\nThermalwasser für
  alle ist der Grundsatz des Vereins Bagni Popolari und der Genossenschaft 
 Bad zum Raben. Neben der Entwicklung der heissen Brunnen (2021 eröffnet) w
 irken Bagni Popolari seit 2018 an der Revitalisierung der zeitgenössischen
  Badekultur im Badener Badegasthof 'Zum Raben' (1299 erstmals erwähnt). Se
 chs Jahre lang wurde in der Zwischennutzung Kunst erlebt und im Thermalwas
 ser gebadet. Nun ist das Bad für den bevorstehenden Umbau geschlossen. Zie
 l ist ein gemeinnützig betriebenes\, lebhaftes Badhaus mit Zugang zu natur
 belassenem Thermalwasser. Kunst und Bädergeschichte für alle sollen umgese
 tzt werden im Spannungsfeld zwischen dem historischen Kontext\, der zeitge
 nössischer Gestaltung und einem transdisziplinären Programm. An diesem Abe
 nd erfahren wir mehr über das Projekt\, die Ideen und die Finanzierung des
  Umbaus. Verein Bagni Popolari\n\nTreffpunkt und Programm:\nAb 18.15 Uhr: 
 Wir treffen uns beim Bad zum Raben\, Kurplatz 3 (Eingang Quellengasse). We
 r will\, kann ein Bad im warmen Thermalwasser geniessen (Badesachen mitneh
 men.)\n19 Uhr: Vortrag\nAnschliessend: Abendessen im Kafi Raab\n\nMenü:\n
 \nFrühlingsrollen (Glasnudeln\, Karotten\, Sojasprossen\, Kabis\, Frühling
 szwiebeln\, Sweet-Chili-Sauce)\n****\nRotes Thaicurry mild (CHF 55)\nPoule
 tbrustgeschnetzeltes\, Ananas\, Peperoncini\, Thai Erbsen-Auberginen\, Tha
 i Basilikum\, Jasminreis\noder:\n\nRotes Thaicurry mild (CHF 50)\nTofu\, A
 nanas\, Peperoncini\, Thai Erbsen-Auberginen\, Thai Basilikum\, Jasminreis
 \n \nSchick uns deine Anmeldung mit Menuangabe (Poulet oder Vegi) bis spät
 estens am 16.4.\, um 12 Uhr\, an admin@bpw-baden.ch.\n\nWir freuen uns auf
  diesen ersten Abend im Zeichen von Well-Being und den Austausch mit Euch!
 \n \nHerzliche Grüsse von Euren Vorstandsfrauen Steffi Kessler\, Antje Amr
 hein Schoch\, Beate-Christin Hastedt\, Corinna Hauri\, Mariella Müller und
  Rachel Neuhaus Bühler\n
DTSTART:20250424T181500
DTEND:20250424T220000
LOCATION:Bad zum Raben
ORGANIZER:MAILTO:BPW Switzerland <admin@bpw-baden.ch>
SUMMARY:Well-Being für alle Sinne: Kultur-Thermalbad im Bad zum Raben
END:VEVENT
END:VCALENDAR
