BEGIN:VCALENDAR
VERSION:2.0
PRODID:-//BPW Switzerland//NONSGML kigkonsult.se iCalcreator 2.16.12//
METHOD:PUBLISH
X-MS-OLK-FORCEINSPECTOROPEN:TRUE
BEGIN:VEVENT
UID:20260422T192156CEST-4323EZDlI9@BPW Switzerland
DTSTAMP:20260422T172156Z
DESCRIPTION:Der BPW Club Baden lädt ein zur Equal Pay Day-Veranstaltung 202
 5.\n\nWas ist der Equal Pay Day? Das Datum des Equal Pay Day ändert von Ja
 hr zu Jahr\, denn es verdeutlicht den aktuellen Lohnunterschied zwischen M
 ann und Frau. Wenn ein Mann ab dem 1. Januar 2025 sein Gehalt bekommt\, ar
 beitet wegen Lohnungleichheit eine Frau bis am 15. Februar 2025 gratis. Fl
 yer Equal Pay Day - BPW Baden Anlass 2025.\n\nEine spannende Diskussionsru
 nde wird diese Thematik  aus verschiedenen Blickwinkeln beleuchten:\n- Aur
 el Hosennen von EDGE wird uns mit Zahlen und Fakten in das Thema Lohnungle
 ichheit einführen.\n- Im Anschluss diskutieren und teilen Nicole Kamm Stei
 ner (Country HR ABB Schweiz)\, Olivier Funk (Head HR Talent & Development\
 , Schindler Aufzüge AG) und Carina Deparade (Co-Country People & Culture M
 anager\, IKEA Schweiz) ihre Erfahrungen und Erkenntnisse.\n- Moderiert wir
  das alles von der grossartigen Monika Schärer.\n\nIhr habt zudem die Mögl
 ichkeit\, bei einer kurzweiligen Führung hinter die Kulissen des Kurtheate
 rs zu blicken. Lara Albanesi\, die Verwaltungsdirektorin des Kurtheaters\,
  freut sich bereits sehr auf Interessierte. \n\nTreffpunkt und Programm:\n
 Ort: Kurtheater Baden\, neues Foyer.\nZeit: 18.00 bis ca. 22.30 Uhr.\n\nDa
 nach laden wir sehr herzlich zu einem kleinen Apéro ein. Bei grösserem Hun
 ger könnt ihr als Selbstzahlerin leckere Sandwiches erwerben.\n\nAnmelden 
 kannst Du Dich über Eventfrog. Für BPW-Mitglieder betragen die Kosten CHF 
 15\, für Externe CHF 20. \n\nWas uns noch sehr freut: Der BPW Zürich hat s
 ich unserer Veranstaltung bereits angeschlossen.\n\nBei Fragen oder andere
 n Anliegen melde dich bei admin@bpw-baden.ch.\n\nHerzliche Grüsse von eure
 n Vorstandsfrauen Steffi Kessler\, Antje Amrhein Schoch\, Beate Hastedt\, 
 Corinna Hauri\, Mariella Müller\, Rachel Neuhaus Bühler und Evelyne Raissi
 g
DTSTART:20250217T180000
DTEND:20250217T203000
LOCATION:Kurtheater Baden\, neues Foyer
ORGANIZER:MAILTO:BPW Switzerland <admin@bpw-baden.ch>
SUMMARY:Equal Pay Day-Veranstaltung 2025
END:VEVENT
END:VCALENDAR
