BEGIN:VCALENDAR
VERSION:2.0
PRODID:-//BPW Switzerland//NONSGML kigkonsult.se iCalcreator 2.16.12//
METHOD:PUBLISH
X-MS-OLK-FORCEINSPECTOROPEN:TRUE
BEGIN:VEVENT
UID:20260422T173646CEST-5210FoT5U8@BPW Switzerland
DTSTAMP:20260422T153646Z
DESCRIPTION:\n\nIm Rahmen der traditionellen Kerzenlichtfeier erleben wir j
 edes Jahr die starke Verbundenheit mit den BPW’s in über 50 Ländern auf de
 r ganzen Welt.\n\nDetails zum Programm folgen später.\n 
DTSTART:20260227T181500
DTEND:20260227T221500
LOCATION:Atrium Hotel und  Restaurant Blume
ORGANIZER:MAILTO:BPW Switzerland <admin@bpw-baden.ch>
SUMMARY:Traditionelle Kerzenlichtfeier
END:VEVENT
END:VCALENDAR
