BEGIN:VCALENDAR
VERSION:2.0
PRODID:-//BPW Switzerland//NONSGML kigkonsult.se iCalcreator 2.16.12//
METHOD:PUBLISH
X-MS-OLK-FORCEINSPECTOROPEN:TRUE
BEGIN:VEVENT
UID:20260422T175800CEST-5761R78DpF@BPW Switzerland
DTSTAMP:20260422T155800Z
DESCRIPTION:\n \n\n\nWir laden herzlich ein zum traditionellen Adventsanlas
 s im Restaurant Plü und freuen uns auf einen festlichen Abend. \n\nNähere 
 Angaben zum Programm folgen später.\n\nProgramm:\nAb 18.15 Uhr: Eintreffen
  zum Apéro im Restaurant Plü\n19 Uhr: Abendessen mit Rahmenprogramm\n22 Uh
 r: Ausklang\n\nWir freuen uns auf den festlichen Weihnachtsabend mit den B
 adener BPW's\, unseren Interessentinnen und Gästen.\n\nEure Vorstandsfraue
 n Steffi Kessler\, Antje Amrhein Schoch\, Beate-Christin Hastedt\, Corinna
  Hauri\, Mariella Müller und Rachel Neuhaus Bühler.\n
DTSTART:20251209T181500
DTEND:20251209T220000
LOCATION:Restaurant Plü
ORGANIZER:MAILTO:BPW Switzerland <admin@bpw-baden.ch>
SUMMARY:BPW-Weihnachtsfeier 
END:VEVENT
END:VCALENDAR
