BEGIN:VCALENDAR
VERSION:2.0
PRODID:-//BPW Switzerland//NONSGML kigkonsult.se iCalcreator 2.16.12//
METHOD:PUBLISH
X-MS-OLK-FORCEINSPECTOROPEN:TRUE
BEGIN:VEVENT
UID:20260422T180330CEST-2355UM26oN@BPW Switzerland
DTSTAMP:20260422T160330Z
DESCRIPTION:\nWir treffen uns zur jährlichen Mitgliederversammlung\n\n\n\n
 \nWir treffen uns im Restaurant Plü zur 50. Mitgliederversammlung. Die sti
 mmberechtigten Clubmitglieder erhalten die Unterlagen (Traktanden\, Jahres
 bericht und Jahresrechnung 2025/2026 sowie das Budget 2026/27) per Mail.\n
 \nInteressentinnen und Gäste (nicht stimmberechtigt) sind ebenfalls herzli
 ch willkommen. Anlässlich der Mitgliederversammlung stellt der Vorstand au
 ch das neue Jahresprogramm 2026/2027 vor.\n\nProgramm:\n18.15 Uhr: Eintref
 fen und Apéro\n19.00 bis ca 20.15 Uhr: Mitgliederversammlung\nAnschliessen
 d: Gemeinsames Abendesssen\n\nWir freuen uns auf das Zusammensein und ange
 regte Gespräche mit unseren Mitgliedern\, Interessentinnen und Gästen!\n\n
 Die Vorstandsfrauen des BPW Club Baden\n\n \n
DTSTART:20260326T181500
DTEND:20260326T220000
LOCATION:Restaurant Plü
ORGANIZER:MAILTO:BPW Switzerland <admin@bpw-baden.ch>
SUMMARY:50. Mitgliederversammlung
END:VEVENT
END:VCALENDAR
