BEGIN:VCALENDAR
VERSION:2.0
PRODID:-//BPW Switzerland//NONSGML kigkonsult.se iCalcreator 2.16.12//
METHOD:PUBLISH
X-MS-OLK-FORCEINSPECTOROPEN:TRUE
BEGIN:VEVENT
UID:20260422T192605CEST-8288xZHaHr@BPW Switzerland
DTSTAMP:20260422T172605Z
DESCRIPTION:\n \nWeitere Infos und Tickets unter: https://bpwkreuzlingen.cl
 ubdesk.com/CashorCrash/\n\n
DTSTART:20240320T183000
DTEND:20240320T220000
LOCATION:BPW Kreuzlingen im Apollo
ORGANIZER:MAILTO:BPW Switzerland <admin@bpw-baden.ch>
SUMMARY:Cash or Crash! Travestieshow zu Equal Pay und Gender Pension Gap
END:VEVENT
END:VCALENDAR
