BEGIN:VCALENDAR
VERSION:2.0
PRODID:-//BPW Switzerland//NONSGML kigkonsult.se iCalcreator 2.16.12//
METHOD:PUBLISH
X-MS-OLK-FORCEINSPECTOROPEN:TRUE
BEGIN:VEVENT
UID:20260422T192140CEST-7893UThGnh@BPW Switzerland
DTSTAMP:20260422T172140Z
DESCRIPTION:Weitere Informationen zum BPW International Leaders' Summit 202
 4 folgen nach offizieller Bekanntgabe durch BPW International.\n
DTSTART:20240308T000000
DTEND:20240309T235900
ORGANIZER:MAILTO:BPW Switzerland <admin@bpw-baden.ch>
SUMMARY:BPW International Leaders' Summit\, NY (USA)
END:VEVENT
END:VCALENDAR
