BEGIN:VCALENDAR
VERSION:2.0
PRODID:-//BPW Switzerland//NONSGML kigkonsult.se iCalcreator 2.16.12//
METHOD:PUBLISH
X-MS-OLK-FORCEINSPECTOROPEN:TRUE
BEGIN:VEVENT
UID:20260422T192316CEST-45939Un3wD@BPW Switzerland
DTSTAMP:20260422T172316Z
DESCRIPTION:Unter dem Motto 'Unsere Lebensentscheidungen haben Konsequenzen
 ' gestaltet der BPW Club Zürich zusammen mit der Fachstelle für Gleichstel
 lung des Kantons Zürich den diesjährigen Equal Pay Day am Samstag\, 17. Fe
 bruar 2024 im Impact Hub in Zürich.\n\nDie Mitglieder\, Interessentinnen u
 nd Gäste des BPW Club Baden sind dazu ebenfalls herzlich eingeladen. Die V
 eranstaltung ist öffentlich.\n\nZum Programm: Nach einer Keynote von Sandr
 a Jauslin\, CEO nehmenswerk GmbH und Co-Präsidentin BPW Switzerland\, disk
 utieren Susanne Nef\, Fachstelle Gleichstellung Kt. Zürich\, Alexandra Mül
 ler\, Frauenzentrale Zürich und Sheera Kim\, Co-Präsidentin BPW Club Züric
 h über das Thema '(Lohn)-Gleichstellung - wie schliessen wir die Lücken?'.
  Moderation: Angela Pape\, EPD-Verantwortliche beim BPW Zürich.\nWeitere I
 nformationen zum Programm\, Ort\, Kosten und Anmeldung\n \n\nOrt: Impact H
 ub\, Viaduktstrasse 93 - 95\, 8005 Zürich\nBeginn /Türöffnung: ab 13.45 Uh
 r\n14.15: Podiumsdiskussion\nCa 16 Uhr: Ende Veranstaltung\n \n
DTSTART:20240217T134500
DTEND:20240217T160000
LOCATION:Impact Hub Zürich AG
ORGANIZER:MAILTO:BPW Switzerland <admin@bpw-baden.ch>
SUMMARY:Unsere Lebensentscheidungen haben Konsequenzen - Veranstaltung zum 
 Equal Pay Day in Zürich
END:VEVENT
END:VCALENDAR
