BEGIN:VCALENDAR
VERSION:2.0
PRODID:-//BPW Switzerland//NONSGML kigkonsult.se iCalcreator 2.16.12//
METHOD:PUBLISH
X-MS-OLK-FORCEINSPECTOROPEN:TRUE
BEGIN:VEVENT
UID:20260422T190345CEST-4770hf9uOg@BPW Switzerland
DTSTAMP:20260422T170345Z
DESCRIPTION:Mit Andreas Steigmeier\, Stadtarchivar Baden\n\nDas älteste Dok
 ument stammt aus einer Zeit\, wo Wilhelm Tell noch Kniesocken trug. Das jü
 ngste ist digital und ein paar Monate alt. Was im Stadtarchiv ist\, hat ei
 nen unschätzbaren Wert oder ist nahezu wertlos. Es ist wunderschön oder ab
 grundtief gewöhnlich. Ein Giftschrank von Personendaten\, niemand kommt re
 in\, dicker Beton\, Luftschutztüren. Wir schreiten hindurch auf der Suche 
 nach dem Wert und der Schönheit.\n\nProgramm:\n18.00 Uhr: Wir treffen uns 
 im Historischen Museum Baden für Apéro und Führung\nAnschliessend nehmen w
 ir das Abendessen im Restaurant Plü ein.\n\n(Es besteht auch die Möglichke
 it\, erst auf das Abendessen um ca. 19.45 Uhr ins Plü zu kommen. Bitte bei
  der Anmeldung mitteilen.)\n\nAbendessen:\nMenü Fleisch (CHF 55): Schweize
 r Pouletbrust mit Chimichurri-Rahmsauce\, Casarecce und saisonalem Gemüse
 \n\nMenü Vegetarisch (CHF 50): Randen-Steak mit Chimichurri-Rahmsauce\, Ca
 sarecce und saisonalem Gemüse\n\nDessert: Karamelköpfli mit Fruchtgarnitur
  und Schlagrahm\n\nAnmeldung: Bitte mit Angabe deines Menüs bis am Mittwoc
 h\, 15.1.2025\, 12 Uhr mittags\, an admin@bpw-baden.ch.\n\nWir freuen uns 
 auf das spannende Referat unseres Stadtarchivars\, den Austausch mit euch 
 und einen schönen Abend!\n \nHerzliche Grüsse von euren Vorstandsfrauen St
 effi Kessler\, Antje Amrhein Schoch\, Corinna Hauri\, Mariella Müller\, Ra
 chel Neuhaus Bühler und Evelyne Raissig\n
DTSTART:20250122T181500
DTEND:20250122T220000
LOCATION:Historisches Museum Baden
ORGANIZER:MAILTO:BPW Switzerland <admin@bpw-baden.ch>
SUMMARY:Schönheit und Wert im Stadtarchiv Baden
END:VEVENT
END:VCALENDAR
