BEGIN:VCALENDAR
VERSION:2.0
PRODID:-//BPW Switzerland//NONSGML kigkonsult.se iCalcreator 2.16.12//
METHOD:PUBLISH
X-MS-OLK-FORCEINSPECTOROPEN:TRUE
BEGIN:VEVENT
UID:20260422T191303CEST-4238pv59vj@BPW Switzerland
DTSTAMP:20260422T171303Z
DESCRIPTION:Es erwartet uns ein anregender Abend mit unseren neuen Mitglied
 ern:\n\nEva Siegrist:\nAus dem Leben einer\, die Jus studierte\, weil sie 
 gerne Krimis las.\nAls angehende Studentin war mir bekannt\, dass Jus etwa
 s mit der Bestrafung von Verbrecher:innen zu tun hat. Quasi die Fortsetzun
 g der Verbrecherjagd. Dass mit einem Jusstudium noch viele weitere berufli
 che Tätigkeiten möglich sind\, erfuhr ich erst mit der Zeit. Davon und wes
 halb ich keine Krimis mehr lese\, erzähle ich euch am 21. November 2024.\n
 \nMaura Wyler:\nMehr als nur Streit beilegen: Mediation als Schlüsselkompe
 tenz im Alltag\nKonflikte sind ein normaler Bestandteil unseres Lebens - d
 och wie gehen wir damit um? In einer Zeit\, die ständige Veränderung und U
 nsicherheit mit sich bringt\, ist die Fähigkeit\, Konflikte zu bewältigen\
 , zentral. Wie können wir unsere Resilienz stärken\, in dem wir unsere Kon
 fliktfähigkeit schärfen? Und welche Rolle spielt der Perspektivenwechsel d
 abei? In meinem Vortrag möchte ich euch zeigen\, warum Mediation ein oft u
 nterschätztes Verfahren ist und wie sie uns hilft\, Konflikte konstruktiv 
 zu lösen. Was denkt ihr über Konflikte - und wie könnte ein anderer Blickw
 inkel euch dabei unterstützen\, besser mit ihnen umzugehen? Ich freue mich
  auf den Austausch mit euch!\n\nProgramm:\n18.15 Uhr: Eintreffen und Apéro
  im Restaurant Plü\n19 Uhr: Abendessen und Referate\n\nMenü:\nVorspeise: M
 arinierter Babyspinat an Feigensenf-Dressing mit Randen und gerösteten Pin
 ienkernen\nFleischmenü: Kalbshackbraten an Champignon-Sauce mit Kartoffelp
 urée und Saisongemüse (CHF 55.-)\nVegi: Planted Steak Stroganoff mit Pasta
 \, Sauerrahm und Essigemüse (CHF 50.-)\n\nGerne erwarten wir deine Anmeldu
 ng mit Menü-Angabe bis spätestens am Mittwoch\, 13.11.2024\, um 12 Uhr\, a
 n admin@bpw-baden.ch.\n\nWir freuen uns auf die spannenden Eintrittsrefera
 te und einen schönen Abend mit euch allen!\n \nHerzliche Grüsse von euren 
 Vorstandsfrauen Steffi Kessler\, Antje Amrhein Schoch\, Corinna Hauri\, Ma
 riella Müller\, Rachel Neuhaus Bühler und Evelyne Raissig\n \n
DTSTART:20241121T181500
DTEND:20241121T220000
LOCATION:Restaurant Plü
ORGANIZER:MAILTO:BPW Switzerland <admin@bpw-baden.ch>
SUMMARY:Wir lernen unsere neuen Mitglieder kennen: Maura Wyler und Eva Sieg
 rist stellen sich vor
END:VEVENT
END:VCALENDAR
