BEGIN:VCALENDAR
VERSION:2.0
PRODID:-//BPW Switzerland//NONSGML kigkonsult.se iCalcreator 2.16.12//
METHOD:PUBLISH
X-MS-OLK-FORCEINSPECTOROPEN:TRUE
BEGIN:VEVENT
UID:20260422T190431CEST-5059VvgI4n@BPW Switzerland
DTSTAMP:20260422T170431Z
DESCRIPTION:\n\n\nMit Manuela Hasler\, Investment Consultant\n\nGeld\, das 
 von Finanzinstituten verwaltet wird\, gehört zu 70% Männern. Zahlreiche St
 atistiken zeigen\, dass Frauen am Thema Geld weniger interessiert sind und
  es dadurch auch weniger vermehren. Zudem gelten Frauen als risikoscheuer 
 und weniger selbstbewusst in Anlagethemen. Hingegen haben Frauen oft eine 
 höhere Affinität zu Sozial- und Umweltthemen.\n\nDiese Vorliebe gilt es\, 
 bei Anlagethemen zu nutzen\, um den «Gender Wealth Gap» zu verringern. Es 
 ist an der Zeit\, das Konzept des wertvollen Wert-Schaffens in den Mittelp
 unkt der finanziellen Planung für Frauen zu stellen und nachhaltige\, wert
 orientierte Strategien in die Finanzplanung aufzunehmen. Damit die eigene 
 Finanzvorsorge angepackt wird und sinnvoll erscheint.\n\nManuela Hasler gi
 bt uns Tipps\, wie wir mit Freude unsere Finanzthemen in jeder Lebenslage 
 aufgreifen und erfolgreich umsetzen.\n\nProgramm:\n18.15 Uhr: Eintreffen u
 nd Apéro im Restaurant Plü\n19 Uhr: Abendessen und Referat\n\nMenü:\nVorsp
 eise: Herbstlicher Feldsalat mit gerösteten Walnüssen\, Birnenspalten und 
 Balsamico-Dressing\nFleischmenü: Geschmorte Ossobuco mit Thymianjus\, Spät
 zli und geröstetem Wurzelgemüse (55.-)\nVegimenü: Spätzlipfanne mit Bergkä
 se und karamelisierten Zwiebeln (50.-)\n\nBitte schickt uns Eure Anmeldung
  bis am Mittwoch\, 16. Oktober\, 12 Uhr\, mit Angabe Eures Menüs an admin@
 bpw-baden.ch .\n\nWir freuen uns auf den Austausch mit Euch\, das spannend
 e Referat und einen schönen Abend!\n \nHerzliche Grüsse von euren Vorstand
 sfrauen Steffi Kessler\, Antje Amrhein Schoch\, Corinna Hauri\, Mariella M
 üller\, Rachel Neuhaus Bühler und Evelyne Raissig \n \n
DTSTART:20241023T181500
DTEND:20241023T220000
LOCATION:Restaurant Plü
ORGANIZER:MAILTO:BPW Switzerland <admin@bpw-baden.ch>
SUMMARY:Wert-voll Wert schaffen – nachhaltige Anlagestrategie und Vorsorge 
 für Frauen
END:VEVENT
END:VCALENDAR
