BEGIN:VCALENDAR
VERSION:2.0
PRODID:-//BPW Switzerland//NONSGML kigkonsult.se iCalcreator 2.16.12//
METHOD:PUBLISH
X-MS-OLK-FORCEINSPECTOROPEN:TRUE
BEGIN:VEVENT
UID:20260422T190431CEST-2596RTFbHT@BPW Switzerland
DTSTAMP:20260422T170431Z
DESCRIPTION:Mit Ute Spiekermann\, Mitgründerin von MachtRaum – Prävention v
 on Machtmissbrauch\nPräventionsbeauftragte der Reformierten Landeskirche d
 es Kantons Aargau\n\nWir alle üben aktiv oder passiv Macht aus. Aktiv\, in
 dem wir uns für jemanden einsetzen\, Verantwortung übernehmen\, Entscheidu
 ngen treffen oder die eigene Meinung vertreten. Passiv\, indem wir unterla
 ssen\, uns enthalten\, zögern\, wegschauen oder ignorieren. Der achtsame u
 nd wertvolle Umgang mit Macht stellt sich nicht einfach so ein\, sondern i
 st eine Errungenschaft jedes einzelnen Menschen und jeder einzelnen Organi
 sation.\n\nAnhand von Situationsbeispielen und konkreten Handlungsinstrume
 nten zeigt uns Ute Spiekermann auf\, wie Menschen in Abhängigkeitsverhältn
 issen besser vor Grenzverletzungen geschützt werden können.\n\nProgramm:\n
 18.15 Uhr: Eintreffen und Apéro im Restaurant Plü\n19 Uhr: Abendessen und 
 Referat\n\nMenü:\nVorspeise: Bunter Salat mit Avocado\, Granatapfelkernen 
 und Limettendressing\nHauptgang Fleisch: Gebratene Maishähnchenbrust mit R
 osmarinjus\, Ofengemüse und Kartoffelgratin (CHF 55)\, oder\nVegi: Ricotta
 -Spinat-Tortelloni mit Salbeibutter\, frischem Parmesan und Rucola (CHF 50
 )\n\nAnmeldung mit Angabe zum Menü: Bis spätestens am Mittwoch\, 18.9.\, u
 m 12 Uhr\, an admin@bpw-baden.ch\n\nWir freuen uns auf den Austausch mit E
 uch\, das spannende Referat und einen schönen Abend!\n \nHerzliche Grüsse 
 von euren Vorstandsfrauen Steffi Kessler\, Antje Amrhein Schoch\, Corinna 
 Hauri\, Mariella Müller\, Rachel Neuhaus Bühler und Evelyne Raissig\n
DTSTART:20240924T181500
DTEND:20240924T220000
LOCATION:Restaurant Plü
ORGANIZER:MAILTO:BPW Switzerland <admin@bpw-baden.ch>
SUMMARY:Asymmetrische Beziehungen WERT-voll gestalten
END:VEVENT
END:VCALENDAR
