BEGIN:VCALENDAR
VERSION:2.0
PRODID:-//BPW Switzerland//NONSGML kigkonsult.se iCalcreator 2.16.12//
METHOD:PUBLISH
X-MS-OLK-FORCEINSPECTOROPEN:TRUE
BEGIN:VEVENT
UID:20260422T190345CEST-8871KxsK3u@BPW Switzerland
DTSTAMP:20260422T170345Z
DESCRIPTION: \n\n\n\n\nBild: Bären-Kesselquelle\, © Kantonale Denkmalpflege
  2020  \n\n\n\nEin Rundgang mit Heiko Dobler\, Stv. Denkmalpfleger Kanton 
 Aargau\n\nDie Stadt Baden blickt mit ihrer 2000-jährigen Bädertradition au
 f eine einzigartige Geschichte zurück. Von römischen Hinterlassenschaften 
 im Untergrund\, mittelalterlichen Badehäusern bis hin zu den repräsentativ
 en Festsälen der Belle-Époque\; im historischen Verenahofgeviert in den Gr
 ossen Bädern wandelt man durch die Jahrhunderte der Badekultur.\n\nDie kul
 turhistorische Bedeutung steht in grossem Widerspruch zum zeitweiligen Zus
 tand dieses Kulturerbes. Die Massnahmen zur Werterhaltung\, Instandsetzung
  und Neunutzung des historischen Hotelgevierts liessen und lassen lange au
 f sich warten.\n\nDer Rundgang mit dem Stv. Denkmalpfleger Heiko Dobler gi
 bt Einblick in lang Verborgenes und Wertvolles – gutes Schuhwerk ist für d
 iese Zeitreise Pflicht.\n\nProgramm:\n18.15 Uhr: Für den Rundgang treffen 
 wir uns vor dem Hotel Blume\nCa. 19.45 Uhr: Abendessen im Restaurant Plü\n
 \nMenü:\nFitnessteller mit Pouletbrust (CHF 55)\nVegi: Fitnessteller mit K
 äsequiche (CHF 50)\nDessert: Vanilleflan mit Caramelsauce\, garniert mit F
 rüchten\n\nAnmeldung mit Menü-Angabe bis spätestens Mittwoch\, 14. August\
 , um 12 Uhr an: admin@bpw-baden.ch\n\nWir freuen uns auf den Austausch mit
  euch\, die gemeinsame Entdeckungsreise beim Rundgang durchs Bäderquartier
  und einen schönen Abend!\n \nHerzliche Grüsse von euren Vorstandsfrauen S
 teffi Kessler\, Antje Amrhein Schoch\, Corinna Hauri\, Mariella Müller\, R
 achel Neuhaus Bühler und Evelyne Raissig\n \n
DTSTART:20240822T181500
DTEND:20240822T220000
LOCATION:Vor dem Hotel Blume
ORGANIZER:MAILTO:BPW Switzerland <admin@bpw-baden.ch>
SUMMARY:Patina war gestern - über Badekultur\, vergangene Pracht und Denkma
 lwerte 
END:VEVENT
END:VCALENDAR
