BEGIN:VCALENDAR
VERSION:2.0
PRODID:-//BPW Switzerland//NONSGML kigkonsult.se iCalcreator 2.16.12//
METHOD:PUBLISH
X-MS-OLK-FORCEINSPECTOROPEN:TRUE
BEGIN:VEVENT
UID:20260422T191151CEST-3931XVH1AV@BPW Switzerland
DTSTAMP:20260422T171151Z
DESCRIPTION:\n \n\nReferat von Madlaina Kalunder\, Chief Connecting Worlds 
 des Unternehmens one11\, zur Bedeutung der Spiele in der modernen Gesellsc
 haft.\n\nSpiele werden oft als blosser Zeitvertreib abgetan und gelten all
 gemein eher nicht als wertvoll. Gleichzeitig kommt ihnen in der modernen G
 esellschaft eine tiefgreifende Bedeutung zu. Der soziale Nutzen von Spiele
 n ist dabei nicht ein neues Phänomen. Wir beschäftigen und mit der Rolle d
 es Spiels für die kognitive und soziale Entwicklung und zeigen auf\, wie s
 trategische und problemlösende Fähigkeiten durch das Spielen geschärft wer
 den. Gemeinsam tauchen wir in den «Magic Circle» und in die kulturhistoris
 che Spieltheorie ein und beleuchten deren Wert für das gesellschaftliche W
 achstum. one11ag\n\nProgramm:\n18.15 Uhr: Eintreffen und Apéro im Restaura
 nt Plü\n19 Uhr: Abendessen und Referat\n\nMenü:\nVorspeise: Bunt gemischte
 r Blattsalat mit Feigensenfdressing\nFleisch: Glasierter Kalbsschulterbrat
 en an Portweinjus mit cremiger Polenta und glasierten Karotten (CHF 55)\no
 der Vegi: Hausgemachte Pasta mit Pestorahmsauce und Parmesanspänen (CHF 50
 )\n\nAnmeldung mit Menü-Angabe bis spätestens am Mittwoch\, 19. Juni\, an 
 admin@bpw-baden.ch.\n\nWir freuen uns auf den Austausch mit euch\, das spa
 nnende Referat und einen schönen Abend!\n \nHerzliche Grüsse von euren Vor
 standsfrauen Steffi Kessler\, Antje Amrhein Schoch\, Corinna Hauri\, Marie
 lla Müller\, Rachel Neuhaus Bühler und Evelyne Raissig\n
DTSTART:20240626T181500
DTEND:20240626T220000
LOCATION:Restaurant Plü
ORGANIZER:MAILTO:BPW Switzerland <admin@bpw-baden.ch>
SUMMARY:'Ich spiele\, also bin ich' - Gedanken über den Wert des Spielens
END:VEVENT
END:VCALENDAR
