BEGIN:VCALENDAR
VERSION:2.0
PRODID:-//BPW Switzerland//NONSGML kigkonsult.se iCalcreator 2.16.12//
METHOD:PUBLISH
X-MS-OLK-FORCEINSPECTOROPEN:TRUE
BEGIN:VEVENT
UID:20260422T203653CEST-5566ED5Pud@BPW Switzerland
DTSTAMP:20260422T183653Z
DESCRIPTION:Mit Bruna Hauert\, Benedict Haener und Kurt Züllig\n\nDie drei 
 zeitgenössischen Schmuckgestalter*innen geben greifbaren Einblick in ihr S
 chaffen und ihre Antreiber. Nach einer kurzen Einführung im Atelier von Ku
 rt Züllig besteht die Möglichkeit\, die mitgebrachten und zum Thema 'Werts
 chöpfung' passenden Arbeiten eingehend zu betrachten.\nEs ist den drei Ref
 erent*innen ein Anliegen\, über die Hintergründe ihrer Arbeiten\, aber auc
 h über ihr Herzblut zu sprechen - ganz unter dem Motto 'Unser Beitrag\, eu
 er Wegtrag: Im Idealfall eine Wertschöpfung'.\nPassform\, Friends of Carlo
 tta\, \n\nProgramm:\n18.15 Uhr: Wir treffen uns im Atelier von Kurt Züllig
  am Limmatauweg 9 in Ennetbaden zum Apéro und der Führung.\nNach einem gem
 einsamen Spaziergang ins Restaurant Plü nehmen wir dort um 20 Uhr das Aben
 dessen ein.\n\nMenü\nStroganoff von der Black Angus Rindshuft mit Kartoffe
 l-Mousseline\, Essiggemüse und Sauerrahm (CHF 55)\, oder\nVegi: Stroganoff
  vom Planted Chicken mit Kartoffel-Mousseline\, Essiggemüse und Sauerrahm 
 (CHF 50)\nDessert: Erdbeerensalat mit gestürzter Karamelcrème\n\nAnmeldung
  mit Angabe des Menüs bis spätestens Mittwoch\, 22. Mai\, um 12. Uhr an ad
 min@bpw-baden.ch\n\nAnreise: Die Parkplätze in der Limmatau sind sehr begr
 enzt. Wir empfehlen Anreise mit ÖV (Postauto-Haltestelle 'Historisches Mus
 eum'\, oder via Bahnhof-Promenaden Lift-Limmatsteg) oder parkieren beim St
 adtcasino und kurzer Spaziergang.\n\nWir freuen uns auf den spannenden Abe
 nd und den Austausch mit euch!\n \nHerzliche Grüsse von euren Vorstandsfra
 uen Steffi Kessler\, Antje Amrhein Schoch\, Corinna Hauri\, Mariella Mülle
 r\, Rachel Neuhaus Bühler und Evelyne Raissig\n\n \n
DTSTART:20240528T181500
DTEND:20240528T220000
LOCATION:Atelier Kurt Züllig
ORGANIZER:MAILTO:BPW Switzerland <admin@bpw-baden.ch>
SUMMARY:Wertschöpfungsprozesse
END:VEVENT
END:VCALENDAR
