BEGIN:VCALENDAR
VERSION:2.0
PRODID:-//BPW Switzerland//NONSGML kigkonsult.se iCalcreator 2.16.12//
METHOD:PUBLISH
X-MS-OLK-FORCEINSPECTOROPEN:TRUE
BEGIN:VEVENT
UID:20260422T192238CEST-4831l5ConZ@BPW Switzerland
DTSTAMP:20260422T172238Z
DESCRIPTION:\n\n\nMit Selma Kuyas\, Business Influencer\, LinkedIn Top Voic
 e 2020 und 2022\n\nWir leben in einer Zeit des Informationsüberflusses\, a
 ustauschbarer Werbeversprechen und künstlich erzeugter Wahrnehmung. Wir si
 nd so gefangen in der Alltagshektik\, dass wir den Draht zu unserer wertvo
 llsten Ressource verlieren – unserer Authentizität. Sie ist der Stoff\, au
 s dem Glaubwürdigkeit gewoben wird. Und die Basis\, auf der wir vertrauens
 volle (Geschäfts-) Beziehungen bauen.\n\nSelma Kuyas zeigt uns\, wie wir m
 it authentischer Online-Kommunikation andere von unserem Wert überzeugen k
 önnen\, welchen Wert digitale Sichtbarkeit hat und weshalb authentisches P
 ersonal Branding die wichtigste Investition ihres Berufslebens ist.\n\nPro
 gramm:\n18.15 Uhr: Eintreffen und Apéro im Restaurant Plü\n19 Uhr: Abendes
 sen und Referat\n\nMenü:\nNüsslisalat mit Feigendressing\, Ei\, Speck und 
 Croûtons (vegetarisch: ohne Speck)\nFisch: Norwegisches Lachssteak mit Wei
 ssweinsauce\, Petersilien-Kartoffelpurée und Blattspinat (CHF 55)\n\noder 
 Vegi: Grünes Spargelrisotto mit Kräuteremulsion und Parmesanspänen (CHF 50
 )\n\nAnmeldung:\nBitte mit Angabe des Menüs bis Mittwoch\, 17. April\, um 
 12 Uhr\, an admin@bpw-baden.ch \n\nWir freuen uns auf den Austausch mit eu
 ch\, das spannende Referat und einen schönen Abend!\n \nEure Vorstandsfrau
 en Steffi Kessler\, Antje Amrhein Schoch\, Corinna Hauri\, Mariella Müller
 \, Rachel Neuhaus Bühler und Evelyne Raissig\n
DTSTART:20240424T181500
DTEND:20240424T220000
LOCATION:Restaurant Plü
ORGANIZER:MAILTO:BPW Switzerland <admin@bpw-baden.ch>
SUMMARY:Der Wert Deiner authentischen Sichtbarkeit im digitalen Zeitalter
END:VEVENT
END:VCALENDAR
