BEGIN:VCALENDAR
VERSION:2.0
PRODID:-//BPW Switzerland//NONSGML kigkonsult.se iCalcreator 2.16.12//
METHOD:PUBLISH
X-MS-OLK-FORCEINSPECTOROPEN:TRUE
BEGIN:VEVENT
UID:20260422T190313CEST-6977vdJv9a@BPW Switzerland
DTSTAMP:20260422T170313Z
DESCRIPTION:\nWir treffen uns zur jährlichen Mitgliederversammlung\n\n\n\n 
 \n\nWir treffen uns im Restaurant Plü zur 49. Mitgliederversammlung. Die s
 timmberechtigten Clubmitglieder erhalten die Unterlagen (Traktanden\, Jahr
 esbericht und Jahresrechnung 2024/2025 sowie das Budget 2025/26) per Mail.
 \n\nInteressentinnen und Gäste (nicht stimmberechtigt) sind ebenfalls herz
 lich willkommen. Anlässlich der Mitgliederversammlung stellt der Vorstand 
 auch das neue Jahresprogramm 2025/2026 vor.\n\nProgramm:\n18.15 Uhr: Eintr
 effen und Apéro\n19.00 bis ca 20.15 Uhr: Mitgliederversammlung\nAnschliess
 end: Gemeinsames Abendesssen\n\nUnser Menü:\nHauptgang Fleisch (55.-): Str
 oganoff vom Black Angus Rind mit Sauerrahm\, Kartoffelpüree und Essiggemüs
 e\n*\nHauptgang Vegi (50.-): Aubergine Schnitzel mit Rosmarinkartoffeln un
 d Zucchini-Cherrytomatengemüse\n*\nDessert: Mascarpone-Creme mit saisonale
 n Früchten und Pecannüssen\n\nSchick uns deine Anmeldung bis am Mittwoch\,
  19. März\, um 12 Uhr\, an admin@bpw-baden.ch - bitte mit Angaben des gewä
 hlten Menus. Vielen Dank!\n\nWir freuen uns auf eine rege Beteiligung an d
 er Mitgliederversammlung und das Zusammensein mit euch!\n\nDie Vorstandsfr
 auen des BPW Club Baden\nSteffi Kessler\, Antje Amrhein Schoch\, Corinna H
 auri\, Evelyne Raissig\, Rachel Neuhaus\, Mariella Müller\n\n \n
DTSTART:20250327T181500
DTEND:20250327T220000
LOCATION:Restaurant Plü
ORGANIZER:MAILTO:BPW Switzerland <admin@bpw-baden.ch>
SUMMARY:49. Mitgliederversammlung
END:VEVENT
END:VCALENDAR
