BEGIN:VCALENDAR
VERSION:2.0
PRODID:-//BPW Switzerland//NONSGML kigkonsult.se iCalcreator 2.16.12//
METHOD:PUBLISH
X-MS-OLK-FORCEINSPECTOROPEN:TRUE
BEGIN:VEVENT
UID:20260422T191151CEST-5956lhgEcz@BPW Switzerland
DTSTAMP:20260422T171151Z
DESCRIPTION:\n\nMit der traditionellen Zeremonie feiern wir die Kerzenlicht
 feier im Gedenken an die Gründerin Dr. Lena Madesin Phillips und die Gründ
 erländer von 1930. Dank ihnen ist das heute weltumspannende Mitgliedernetz
 werk entstanden. Für jeden Kontinent und dessen Länder zünden wir eine Ker
 ze an. Somit werden wir an die BPW Clubs in aller Welt sowie unsere gemein
 samen Ziele und Werte denken und unsere Verbundenheit mit ihnen sichtbar m
 achen. \n \nOrt: Atrium Hotel und Restaurant Blume\, Kurplatz 4\, 5400 Bad
 en\n\nZeit:\n18.15 Uhr: Eintreffen und Apéro\n19.00 Uhr: Beginn der Kerzen
 lichtfeier und anschl. Abendessen\n\nUnser Festmenu:      \nWinterliche Bl
 attsalate mit Coppa\, Granola und Orangenvinaigrette (Vegi: ohne Coppa)\n*
 **\nHauptgang Fleisch: Tranchen vom Swiss Prime Beef auf Tessiner Polenta\
 , Petersilienwurzel und Portweinjus\noder Vegi: Auberginencurry mit Korian
 der\, Granatapfelkernen\, Mango Relish und Basmatireis\n***\nPanna Cotta m
 it Tonka Bohne und konfierten Zwetschgen\n***\nKaffee/Tee       \n        
     \nKosten:\nAlle Teilnehmerinnen bezahlen vor Ort Fr. 83.-- für das Fes
 tmenü inkl. Apéro\, Mineral\, Kaffee/Tee. Falls sich eine angemeldete Teil
 nehmerin später als Mittwoch\, 19.2.2024 von der Kerzenlichtfeier wieder a
 bmeldet oder ohne Abmeldung nicht erscheint\, werden die Kosten des Abende
 ssens von CHF 83.- in Rechnung gestellt.\n \nAnreise\nWer mit dem Auto anr
 eist\, hat folgende Möglichkeiten zum Parkieren:\n-        Parkhaus Zentru
 m in Ennetbaden und via Mercier Steg zu Fuss zum Restaurant Blume\n-      
   Parkhaus des Fortyseven\, dann zu Fuss\n-        Zubringerdienst für jen
 e\, die nicht gut zu Fuss sind\, ist erlaubt\n \nAnmeldung: Bitte bis spät
 estens Mittwoch\, 19. Februar 2025 unter admin@bpw-baden.ch\, inklusive Me
 nüwahl. Vielen Dank!\n \nKurzfristige Abmeldungen am Tag des Anlasses bitt
 e an 076 588 27 37 (Steffi Kessler).\n \nWir freuen uns auf den gemeinsame
 n\, feierlichen Abend in Baden. \n\nMit herzlichen Grüssen\nEure Vorstands
 frauen \nSteffi Kessler\, Antje Amrhein Schoch\, Corinna Hauri\, Evelyne R
 aissig\, Rachel Neuhaus\, Mariella Müller\n\n 
DTSTART:20250225T181500
DTEND:20250225T221500
LOCATION:Atrium Hotel und Restaurant Blume
ORGANIZER:MAILTO:BPW Switzerland <admin@bpw-baden.ch>
SUMMARY:Traditionelle Kerzenlichtfeier
END:VEVENT
END:VCALENDAR
