BEGIN:VCALENDAR
VERSION:2.0
PRODID:-//BPW Switzerland//NONSGML kigkonsult.se iCalcreator 2.16.12//
METHOD:PUBLISH
X-MS-OLK-FORCEINSPECTOROPEN:TRUE
BEGIN:VEVENT
UID:20260422T191135CEST-87516ClX8a@BPW Switzerland
DTSTAMP:20260422T171135Z
DESCRIPTION:\n \n\n\nWir laden herzlich ein zur BPW Weihnachtsfeier 2024 un
 d freuen uns auf den festlichen Adventsanlass im Restaurant Plü. Durch den
  Abend begleitet uns Nic Niedermann\, leidenschaftlicher Gitarrist\, Kompo
 nist\, Produzent und Kulturvermittler.\n\nProgramm:\nAb 18.15 Uhr: Eintref
 fen zum Apéro im Restaurant Plü\n19 Uhr: Abendessen mit Rahmenprogramm\n22
  Uhr: Ausklang\n\nNach einem reichhaltigen Apéro erwartet uns ein festlich
 es Menu:\n- Vorspeise: Randencarpaccio mit Ziegenkäse\, Walnüssen und Feig
 ensenf-Dressing\n- Hauptgang mit Fleisch: Tagliata von der Rindshuft mit K
 artoffelgratin und Wintergemüse\n- Hauptgang vegetarisch: Arrancini auf To
 matensaucenspiegel\, garniert mit Wintergemüse\n- Dessert: Warmes Schokola
 denküchlein mit Vanilleeis und Früchtegarnitur\n- Café oder Tee\nMenupreis
 : CHF 85 pro Person\n\nVerbindliche Anmeldung mit Menuwahl (Vegi oder Flei
 sch) bis am Mittwoch\, 4. Dezember\, ausschliesslich per Mail an admin@bpw
 -baden.ch .\n\nWir freuen uns auf den festlichen Weihnachtsabend mit den B
 adener BPW's\, unseren Interessentinnen und Gästen.\n\nEure Vorstandsfraue
 n Steffi Kessler\, Antje Amrhein Schoch\, Corinna Hauri\, Mariella Müller\
 , Rachel Neuhaus Bühler und Evelyne Raissig\n
DTSTART:20241211T181500
DTEND:20241211T220000
LOCATION:Restaurant Plü\, Au premier
ORGANIZER:MAILTO:BPW Switzerland <admin@bpw-baden.ch>
SUMMARY:BPW-Weihnachtsfeier 
END:VEVENT
END:VCALENDAR
