BEGIN:VCALENDAR
VERSION:2.0
PRODID:-//BPW Switzerland//NONSGML kigkonsult.se iCalcreator 2.16.12//
METHOD:PUBLISH
X-MS-OLK-FORCEINSPECTOROPEN:TRUE
BEGIN:VEVENT
UID:20260422T203526CEST-9728u8DfFK@BPW Switzerland
DTSTAMP:20260422T183526Z
DESCRIPTION:'Vom Können zum Wollen'\n\nUnser neues Mitglied Beate-Christin 
 Hastedt hält ihr Eintrittsreferat zum folgenden Thema:\n'Karrieren verlauf
 en oft entlang des Könnens und weniger entlang des Wollens. Ich bin überze
 ugt\, dass es sich lohnen kann\, hier einmal genauer hin zu schauen.'\n\nP
 rogramm:\n18.15 Uhr: Eintreffen und Apéro im Restaurant Plü\n19 Uhr: Abend
 essen und Referat\n\nMenü:\nLauchcrèmesuppe\n***\nTagliata von der Rinderh
 uft alla Dijonaise\nmit Fregola Sarda und glasierte Wurzelgemüse (CHF 55.-
 )\n\noder Vegi: Planted Chicken Pasta alla Amatriciana (Tomaten\, Pecorino
  und Petersilie\, CHF 50.-)\n \nAnmeldung: Bitte mit Angabe zum Menü (Flei
 sch oder Vegi) bis spätestens am Mittwoch\, 17.1.2024\, an: admin@bpw-bade
 n.ch\n\nWir freuen uns auf den Austausch mit Euch\, das spannende Eintritt
 sreferat und einen schönen Abend!\n \nHerzliche Grüsse von euren Vorstands
 frauen Steffi Kessler\, Antje Amrhein Schoch\, Alexandra Signer\, Evelyne 
 Reissig\, Corinna Hauri\n\n \n
DTSTART:20240123T181500
DTEND:20240123T220000
LOCATION:Restaurant Plü
ORGANIZER:MAILTO:BPW Switzerland <admin@bpw-baden.ch>
SUMMARY:'Vom Können zum Wollen' - Beate-Christin Hastedt stellt  sich vor 
END:VEVENT
END:VCALENDAR
