BEGIN:VCALENDAR
VERSION:2.0
PRODID:-//BPW Switzerland//NONSGML kigkonsult.se iCalcreator 2.16.12//
METHOD:PUBLISH
X-MS-OLK-FORCEINSPECTOROPEN:TRUE
BEGIN:VEVENT
UID:20260422T203714CEST-44065LURd0@BPW Switzerland
DTSTAMP:20260422T183714Z
DESCRIPTION:Mit André Leimbgruber\, Leiter Hotellerie und Wäscherei.\n\nBli
 tzsauber und frisch - so verlassen täglich 18 Tonnen Wäsche die Wäscherei 
 Baden\, ein Unternehmen der Kantonsspital Baden AG. Damit dies möglich ist
 \, braucht es modernste Technik\, effiziente Logistik und natürlich motivi
 erte Mitarbeiterinnen und Mitarbeiter. 75 Menschen beschäftigt die Wäscher
 ei Baden. André Leimgruber gibt uns einen Einblick in dieses Unternehmen\,
  das Kundinnen und Kunden aus der Industrie\, dem Gewerbe\, dem Gesundheit
 swesen und der Gastronomie bedient. Im Anschluss geniessen wir einen Apéro
  riche im Café Orizzonte.\n\nTreffpunkt:\nUm 18.30 Uhr: Auf der Terrasse v
 or dem Caffè Orizzonte\, Partnerhaus 1\, Kantonsspital Baden\, 5400 Baden.
  (Die Wäscherei ist nur per Badge zugänglich. Wer später kommt\, meldet si
 ch bei Manuela Birrer\, Tel 056 486 25 81 / 079 469 53 63).\n\nKosten: CHF
  35\, inkl. Apéro riche (bar oder per TWINT)\n\nAnmeldung: Bis Dienstag\, 
 23. Mai\, an admin@bpw-baden.ch \n\n\n\n 
DTSTART:20230525T183000
DTEND:20230525T221500
LOCATION:Wäscherei KSB
ORGANIZER:MAILTO:BPW Switzerland <admin@bpw-baden.ch>
SUMMARY:18 Tonnen saubere Wäsche pro Tag
END:VEVENT
END:VCALENDAR
