BEGIN:VCALENDAR
VERSION:2.0
PRODID:-//BPW Switzerland//NONSGML kigkonsult.se iCalcreator 2.16.12//
METHOD:PUBLISH
X-MS-OLK-FORCEINSPECTOROPEN:TRUE
BEGIN:VEVENT
UID:20260422T203819CEST-0004t2WHXn@BPW Switzerland
DTSTAMP:20260422T183818Z
DESCRIPTION: \n\nMit Georgette Stadtmann\, Bereichsleiterin Sozialkonzept &
  GwG-Compliance des Grand Casino Baden. \n\nGlamour\, die Aussicht auf den
  grossen Gewinn - das ist die eine Seite der Casinowelt. Problematisches S
 pielverhalten und Geldwäscherei\, das sind die Schattenseiten. Jedes Schwe
 izer Casino ist gesetzlich verpflichtet\, Compliance-Auflagen in diesen wi
 chtigen Bereichen umzusetzen.\n\nGeorgette Stadtmann zeigt uns in ihrem Re
 ferat\, was das Casino Baden konkret unternimmt\, um sozialschädliche Ausw
 irkungen des Glücksspiels zu verhindern. Und es geht auch darum\, was jede
  Einzelne von uns tun kann\, wenn im Umfeld ein Verdacht auf problematisch
 es Spielverhalten vorliegt. Zudem gibt sie uns einen Einblick\, welche Sor
 gfaltspflichten im Daily Business umgesetzt werden müssen\, um Geldwäscher
 ei im Casino zu verhindern bzw. bei der Polizei anzuzeigen. Mehr zum Grand
  Casino Baden\n\nProgramm:\n18.15 Uhr: Eintreffen und Apéro im Restaurant 
 Plü\, Baden\n19 Uhr: Referat und Abendessen\n\nMenüwahl: Um Foodwaste zu v
 ermeiden\, bitte wir euch\, eure Menüwahl bei der Anmeldung mitzuteilen. I
 hr könnte wählen zwischen\n- Norwegisches Lachsfilet an Safransauce mit We
 issweinrisotto und Saisaongemüse (CHF 55.-)\n- oder Vegi: Hausgemachte Pas
 ta Cinque Pi mit Parmesanspänen (CHF 50.-)\n- Vorspeise: Herbstlicher Blat
 tsalat mit Croûtons und Feigensenf-Dressing.\n\nAnmeldung: Bis spätestens 
 am Mittwoch\, 15. November\, um 12 Uhr\, an admin@bpw-baden.ch\n\nWir freu
 en uns auf den Austausch mit euch\, das spannende Referat und den schönen 
 Abend.\nEure Vorstandsfrauen des BPW Club Baden\n
DTSTART:20231123T181500
DTEND:20231123T220000
LOCATION:Restaurant Plü\, Stadtcasino
ORGANIZER:MAILTO:BPW Switzerland <admin@bpw-baden.ch>
SUMMARY:Spielsucht und Geldwäscherei - das Grand Casino in der Verantwortun
 g
END:VEVENT
END:VCALENDAR
