BEGIN:VCALENDAR
VERSION:2.0
PRODID:-//BPW Switzerland//NONSGML kigkonsult.se iCalcreator 2.16.12//
METHOD:PUBLISH
X-MS-OLK-FORCEINSPECTOROPEN:TRUE
BEGIN:VEVENT
UID:20260422T203712CEST-1186hROWbB@BPW Switzerland
DTSTAMP:20260422T183712Z
DESCRIPTION:\nMit Dorothee Schiesser\, Sozialunternehmerin\, Gründerin und 
 Präsidentin von SapoCycle\n \n\n\n\nWie oft haben wir in Hotels diese klei
 nen Seifen benutzt\, um drei Mal die Hände zu waschen und sie dann in der 
 Seifenschale liegen lassen? Dorothée Schiesser hat vor neun Jahren eine Lö
 sung dafür gefunden. Sie stellt uns SapoCycle vor – die erste Non-Profit-O
 rganisation in Europa\, die gebrauchte Seife von Hotels sammelt und in Pro
 dukte umwandelt\, die helfen\, Leben zu retten. SapoCycle basiert auf den 
 drei Säulen Umwelt\, Soziale Integration und Solidarität.\n\nDorothée Schi
 esser wird uns mehr darüber und über die Pläne für die nächsten Jahre erzä
 hlen: Das Sammeln und Recyceln von flüssigen Hygieneprodukten\, die von Ho
 tels weggeworfen werden: Duschgels\, Shampoos\, Conditioner. Mehr zu SapoC
 ycle\n\nProgramm:\n18.15 Uhr: Eintreffen und Apéro im Restaurant Du Parc\n
 19 Uhr: Abendessen und Referat\n\nZur Anmeldung:\nUm Foodwaste zu vermeide
 n\, bitten wir Euch\, uns Eure Menüwahl mitzuteilen:\n- Fleisch: Pouletstr
 eifen an Kokos-Ingwer Sauce mit Reis und Gemüse\n- oder Vegi: Rustico-Cape
 letti mit Taleggio und Parmesanrahmsauce\n- Vorspeise: Kürbiscrèmesuppe\n
 \nBitte schick uns Deine Anmeldung zu diesem Anlass mit Angabe Deines Menü
 s bis am Sonntag\, 22.10.2023 an admin@bpw-baden.ch\n\nWir freuen uns auf 
 den Austausch mit Euch und auf das interessante Referat.\nEure Vorstandsfr
 auen Steffi Kessler\, Antje Amrhein Schoch\, Alexandra Signer\, Evelyne Ra
 issig und Corinna Hauri.\n\n\n\n \n
DTSTART:20231024T181500
DTEND:20231024T220000
LOCATION:Restaurant Du Parc
ORGANIZER:MAILTO:BPW Switzerland <admin@bpw-baden.ch>
SUMMARY:SapoCycle: Soziale Seifen\, die Leben retten
END:VEVENT
END:VCALENDAR
