BEGIN:VCALENDAR
VERSION:2.0
PRODID:-//BPW Switzerland//NONSGML kigkonsult.se iCalcreator 2.16.12//
METHOD:PUBLISH
X-MS-OLK-FORCEINSPECTOROPEN:TRUE
BEGIN:VEVENT
UID:20260422T203652CEST-0225VckB26@BPW Switzerland
DTSTAMP:20260422T183652Z
DESCRIPTION:\nWir haben alle eine Ausbildung genossen\, unseren Beruf frei 
 gewählt und haben uns entfalten können. Viele junge Frauen\, mehrheitlich 
 aus dem Ausland\, wurden durch eine Notlage gezwungen\, im Rotlichtmilieu 
 zu arbeiten\, dies im Grossraum Zürich und damit auch in Baden und Umgebun
 g. Auch hier gilt das Wirtschaftsprinzip: Wo es eine Nachfrage gibt\, gibt
  es eine Offerte\; ein Gesellschaftsproblem.\n\nDer 2008 von Peter und Dor
 othee Widmer gegründete Verein Heartwings hat sich zum Ziel gesetzt\, dies
 e Frauen zu treffen\, zu unterstützen\, ihnen zu helfen\, eine normale Arb
 eit zu finden und ein würdiges Leben zu führen. Das Team von Voll-und Teil
 zeitangestellten sowie ehrenamtlichen Mitarbeiter/innen des Vereins arbeit
 et im Rotlichtmlieu und begegnet täglich Menschen mit zerbrochenen Herzen 
 und gescheiterten Träumen.\n\nDas Logo des Vereins und der Name Heartwings
  stehen dafür\, dass Veränderungen immer möglich sind. Unter dem Motto 'Ch
 ange is possible' setzen sich die Mitarbeitenden dafür ein\, dass «zerbroc
 hene Herzen» wiederhergestellt werden und Träume fliegen lernen. Eine saub
 ere Sache\, die auch an unser letztjähriges Thema «Ein Jahr mit ganz viel 
 Herz» anknüpft. Mehr zu Heartwings  \n\nProgramm:\n18.15 Uhr: Eintreffen u
 nd Apéro im Hotel Du Parc\, Baden\n19 Uhr: Abendessen und Referat\n\nMenuw
 ahl und Anmeldung\nUm Foodwaste zu vermeiden\, bitten wir Euch\, uns Eure 
 Menüwahl bei der Anmeldung mitzuteilen:\n- Vegi (Quorn Schnitzel\, Risotto
  Funghi mit Rucola und Parmesan)\, oder\n- Fleisch (Entrecôte 120g\, Risot
 to milanese\, Marktgemüse)\nZur Vorspeise gibt es einen grünen Salat mit K
 ernen\, Sprossen und Croûtons.\n\nAnmeldung: Bis Freitag\, 17. Juni 2023 a
 n admin@bpw-baden.ch \n\nWir Vorstandsfrauen freuen uns auf den Austausch 
 mit euch\, das spannende Referat und einen schönen Abend! \n \n
DTSTART:20230620T181500
DTEND:20230620T220000
LOCATION:Hotel Du Parc
ORGANIZER:MAILTO:BPW Switzerland <admin@bpw-baden.ch>
SUMMARY:Verein Heartwings: Wege aus der Prostitution
END:VEVENT
END:VCALENDAR
