BEGIN:VCALENDAR
VERSION:2.0
PRODID:-//BPW Switzerland//NONSGML kigkonsult.se iCalcreator 2.16.12//
METHOD:PUBLISH
X-MS-OLK-FORCEINSPECTOROPEN:TRUE
BEGIN:VEVENT
UID:20260422T203535CEST-5411vZOOpf@BPW Switzerland
DTSTAMP:20260422T183535Z
DESCRIPTION:Gestalte Deine Wirklichkeit\nUnter diesem Motto steht das Eintr
 ittsreferat von Rachel Neuhaus Bühler\, Dr. phil.\, Fachpsychologin Psycho
 therapie FSP:\nNicht allein die Umstände\, sondern auch die Interpretation
 \, eigene Glaubenssätze und Werte beeinflussen die Art und Weise\, wie wir
  unsere Zufriedenheit und Lebensqualität empfinden und was wir aus den Ums
 tänden gestalten. Eine kleine Anleitung zum Glücklichsein?\n\nLebe Dein Le
 ben - Denn manchmal kommt es anders\, als man denkt\nEine Erfahrung\, die 
 Silvia Brims Koponen geprägt hat und die sie in ihrer Tätigkeit als Hausär
 ztin und Palliativmedizinierin auch immer wieder macht.\n\nWir freuen uns 
 auf die spannenden Eintrittsreferate unserer beiden neuen Mitglieder Rache
 l Neuhaus Bühler und Silvia Brims Koponen.\n\nDie Vorstandsfrauen vom BPW 
 Club Baden\n\nProgramm:\n\n18.15 Uhr: Eintreffen und Apéro im Restaurant D
 u Parc\n19 Uhr: Abendessen und Referate\n \n
DTSTART:20230921T181500
DTEND:20230921T220000
LOCATION:Restaurant Du Parc
ORGANIZER:MAILTO:BPW Switzerland <admin@bpw-baden.ch>
SUMMARY:Eintrittsreferate: Rachel Neuhaus Bühler und Silvia Brims Koponen s
 tellen sich vor
END:VEVENT
END:VCALENDAR
