BEGIN:VCALENDAR
VERSION:2.0
PRODID:-//BPW Switzerland//NONSGML kigkonsult.se iCalcreator 2.16.12//
METHOD:PUBLISH
X-MS-OLK-FORCEINSPECTOROPEN:TRUE
BEGIN:VEVENT
UID:20260422T203713CEST-5160whMHw1@BPW Switzerland
DTSTAMP:20260422T183713Z
DESCRIPTION:Baden – Kultur – Politik: mein Hut\, der hat drei Ecken\nEintri
 ttsreferat von Steffi Kessler\, unserer neuen Präsidentin\n\nMeine ganz pe
 rsönliche Badenfahrt hat kurz vor meinem 20. Geburtstag stattgefunden. Die
  Kultur- und Bäderstadt hat mich sofort in ihren Bann gezogen. Was früher 
 mein Hobby war\, ist heute mein Beruf. In meiner Funktion als Kulturmanage
 rin MAS durfte ich schon auf vielen Bühnen tanzen.\n\nAber Baden hat mir n
 icht nur die Kulturtür geöffnet\, sondern auch jene zur lokalen Politik. N
 ach einigen Jahren im Einwohnerrat\, wirke ich heute in der Badener Exekut
 ive mit. Seit dem 1. Januar 2022 bin ich Stadträtin\, zuständig für das Re
 ssort Kultur. Gerne zeige ich euch auf einem Spaziergang die für mich präg
 enden Orte meiner Stadt. Nach einem Apéro\, der von der Stadt Baden offeri
 ert wird\, essen wir gemeinsam im Trudelkeller.\n\nProgramm:\nWir treffen 
 uns um 18 Uhr bei der Holzbrücke\, Seite Landvogteischloss. Anschliessend 
 Spaziergang mit Steffi durch Baden\, Apéro und Abendessen im Trudelkeller.
 \n\nWer es zeitlich nicht schafft\, kommt um 18.45 Uhr zum Stadthaus und m
 eldet sich bei Corinna (079 471 42 16) oder Alex (079 564 07 60).\n\nAnmel
 dung:\nBis spätestens am Donnerstag\, 20.4.\, an admin@bpw-baden.ch .\nEs 
 gibt an diesem Abend für CHF 50 ein Fischmenü oder VegiMenü. Bitte bei der
  Anmeldung angeben.\n\nWir freuen uns auf den Austausch mit euch\, das spa
 nnende Referat und den schönen Abend!\nDie Vorstandsfrauen vom Badener BPW
 \n \n\n\n\n\n \n\n \n\n \n\n \n\n 
DTSTART:20230426T180000
DTEND:20230426T214500
ORGANIZER:MAILTO:BPW Switzerland <admin@bpw-baden.ch>
SUMMARY:Baden - Kultur - Politik: Mein Hut\, der hat drei Ecken
END:VEVENT
END:VCALENDAR
