BEGIN:VCALENDAR
VERSION:2.0
PRODID:-//BPW Switzerland//NONSGML kigkonsult.se iCalcreator 2.16.12//
METHOD:PUBLISH
X-MS-OLK-FORCEINSPECTOROPEN:TRUE
BEGIN:VEVENT
UID:20260422T192120CEST-3272cR8x4V@BPW Switzerland
DTSTAMP:20260422T172120Z
DESCRIPTION:\nWir treffen uns zur jährlichen Mitgliederversammlung\n\n\n\n
 \n\nWir treffen uns im Restaurant Plü im Stadtcasino Baden zur 48. Mitglie
 derversammlung. Die stimmberechtigten Clubmitglieder erhalten die Unterlag
 en (Traktanden\, Jahresbericht und Jahresrechnung 2023/2024 sowie das Budg
 et 2024/25) per Post. Interessentinnen und Gäste (nicht stimmberechtigt) s
 ind ebenfalls herzlich willkommen.\n\nAnlässlich der Mitgliederversammlung
  stellt der Vorstand auch das neue Jahresprogramm 2024/2025 vor.\n\nProgra
 mm:\n18.15 Uhr: Eintreffen und Apéro\n19.00 bis ca 20.15 Uhr: Mitgliederve
 rsammlung\nAnschliessend: Gemeinsames Abendesssen\n\nUnser Menü:\nHauptgan
 g Fisch (CHF 55): Gebratenes Zanderfilet mit Zitronen-Beurre-Blanc\, Safra
 nrisotto mit Brokkoli\n\nHauptgang Vegi (CHF 50): Sämiges Safranrisotto mi
 t Gemüse und Parmesanspänen\n\nDessert für alle: Knuspriger Apfelstrudel m
 it Vanillesauce\n\nBitte schicke uns Deine Anmeldung mit Angabe des Menüs 
 bis spätestens Mittwoch\, 13. März 2024\, um 12 Uhr mittags an: admin@bpw-
 baden.ch.\n\nWir freuen uns auf das Zusammensein und angeregte Gespräche m
 it unseren Mitgliedern\, Interessentinnen und Gästen!\n\nDie Vorstandsfrau
 en des BPW Club Baden\n\n \n
DTSTART:20240321T181500
DTEND:20240321T220000
LOCATION:Restaurant Plü\, Stadtcasino
ORGANIZER:MAILTO:BPW Switzerland <admin@bpw-baden.ch>
SUMMARY:48. Mitgliederversammlung
END:VEVENT
END:VCALENDAR
