BEGIN:VCALENDAR
VERSION:2.0
PRODID:-//BPW Switzerland//NONSGML kigkonsult.se iCalcreator 2.16.12//
METHOD:PUBLISH
X-MS-OLK-FORCEINSPECTOROPEN:TRUE
BEGIN:VEVENT
UID:20260422T192029CEST-7283O23itT@BPW Switzerland
DTSTAMP:20260422T172029Z
DESCRIPTION:\n\nIm Rahmen der traditionellen Kerzenlichtfeier im Gedenken a
 n die Gründerin Dr. Lena Madesin Phillips und die Gründerländer von 1930 e
 rleben wir jedes Jahr die starke Verbundenheit mit den BPW’s in über 50 Lä
 ndern auf der ganzen Welt. Dank ihnen ist das heute weltumspannende Mitgli
 edernetzwerk entstanden. Für jeden Kontinent und dessen Länder zünden wir 
 eine Kerze an. Somit werden wir an die BPW Clubs in aller Welt und an unse
 re gemeinsamen Ziele und Werte denken und unsere Verbundenheit mit ihnen s
 ichtbar machen. \n\nProgramm:\n18.15 Uhr: Eintreffen und Apéro\n19 Uhr: Ab
 endessen und Kerzenlichtfeier\n\nFestmenü:\nApéro\n***      \nNüsslisalat
  mit Speck vom Thurgauer Apfelschwein\, Ei und Briochecroutons (Vegi: ohne
  Speck)\n***\nHauptgang Fleisch: Rindstagliata mit Café de Paris\, Blatts
 pinat und Pommes nouvelles\noder\nHauptgang Vegi: Capuns Sursilvan mit Val
 ser Bergkäse und gebackenen Zwiebeln\n***\nGebrannte Creme Grossmutter Ar
 t\n***\nKaffee/Tee       \n           \nKosten:\nInteressentinnen und Gäst
 e bezahlen Fr. 83.-- für das Festmenü inkl. Apéro\, Mineral\, Kaffee/Tee. 
 Für die BPW Clubmitglieder ist es im Jahresbeitrag inbegriffen. \nFalls si
 ch ein Gast oder eine Interessentin später als Mittwoch\, 14.2.2024\, von 
 der Kerzenlichtfeier wieder abmeldet oder ohne Abmeldung nicht erscheint (
 sich vorgängig aber angemeldet hat)\, dem werden die Kosten des Abendessen
 s von CHF 83.- in Rechnung gestellt.\n \nAnreise mit dem Auto:\nParkhaus F
 ortyseven oder Parkhaus Zentrum in Ennetbaden und via Mercier Steg zu Fuss
  zum Restaurant Blume\nZubringerdienst für jene\, die nicht gut zu Fuss si
 nd\, ist erlaubt\n \nAnmeldung\nMelde dich für die Kerzenlichtfeier vom 21
 . Februar 2024 bitte bis spätestens Dienstag\, 13. Februar 2024 an unter a
 dmin@bpw-baden.ch. Bitte Menüwahl nicht vergessen - vielen Dank!\n \nWir f
 reuen uns auf den gemeinsamen\, feierlichen Abend in Baden.\nEure Vorstand
 sfrauen Steffi Kessler\, Alexandra Signer\, Antje Amrhein Schoch\, Corinna
  Hauri\, Evelye Raissig\n\n 
DTSTART:20240221T181500
DTEND:20240221T220000
LOCATION:Restaurant und Hotel Blume
ORGANIZER:MAILTO:BPW Switzerland <admin@bpw-baden.ch>
SUMMARY:Traditionelle Kerzenlichtfeier
END:VEVENT
END:VCALENDAR
