BEGIN:VCALENDAR
VERSION:2.0
PRODID:-//BPW Switzerland//NONSGML kigkonsult.se iCalcreator 2.16.12//
METHOD:PUBLISH
X-MS-OLK-FORCEINSPECTOROPEN:TRUE
BEGIN:VEVENT
UID:20260422T203817CEST-9505JwAsBU@BPW Switzerland
DTSTAMP:20260422T183817Z
DESCRIPTION:\n \n\n\nWir laden herzlich ein zum traditionellen Weihnachtsan
 lass und freuen uns auf einen gemeinsamen festlichen Abend im Restaurant P
 inte in Baden Dättwil.\n\nRade Mijatovic\, ein über die Schweiz hinaus int
 ernational bekannter Akkordeon-Virtuose\, wird uns an diesem Abend mit sei
 nem grossen Repertoire von Klassik bis zur Unterhaltungsmusik aus den vers
 chiedensten Ecken der Welt begleiten. Rade Mijatovic ist Akkordeonlehrer a
 n der Musikschule der Region Baden.\n\nProgramm:\nAb 18.15 Uhr: Eintreffen
  zum Apéro\n19 Uhr: Abendessen mit Rahmenprogramm\n22 Uhr: Ausklang\n\nUns
 er Menu:\nVorspeise: Nüsslisalat mit Ei\nHauptgang: Kalbsschnitzel Wiener 
 Art\, Gemüse und Pommes allumettes\, oder Vegi: Kürbisrisotto mit Rosenkoh
 llaub\nDessertbuffet\, Kaffee oder Tee.\nDer Menu-Preis berägt 85 Fr. pro 
 Person.\n\nWir bitten um eine verbindliche Anmeldung bis am Dienstag\, 5. 
 Dezember\, an admin@bpw-baden.ch. Bitte bei der Anmeldung auch Menuwahl (V
 egi oder Fleisch) angeben!\nEin Abmeldung ist bis 48 Std. vorher möglich\,
  danach wird das Menu in Rechnung gestellt.\n\nWir freuen uns auf den fest
 lichen Weihnachtsabend mit den Badener BPW's\, unseren Interessentinnen un
 d Gästen.\nSteffi Kessler\, Corinna Hauri\, Antje Amrhein Schoch\, Alexand
 ra Signer\, Rachel Neuhaus und Evelyne Raissig\n
DTSTART:20231213T181500
DTEND:20231213T220000
LOCATION:Restaurant Pinte
ORGANIZER:MAILTO:BPW Switzerland <admin@bpw-baden.ch>
SUMMARY:BPW-Weihnachtsfeier 
END:VEVENT
END:VCALENDAR
