BEGIN:VCALENDAR
VERSION:2.0
PRODID:-//BPW Switzerland//NONSGML kigkonsult.se iCalcreator 2.16.12//
METHOD:PUBLISH
X-MS-OLK-FORCEINSPECTOROPEN:TRUE
BEGIN:VEVENT
UID:20260422T204422CEST-3117T29Cww@BPW Switzerland
DTSTAMP:20260422T184422Z
DESCRIPTION:Die BPW-Clubs Baden und Lenzburg laden ein zum Besuch der Ausst
 ellung 'Natur. Und wir?' im Stapferhaus Lenzburg. Partner*innen sind bei d
 iesem BPW+ Anlass ebenfalls herzlich willkommen.\n\nZusammen mit einer Füh
 rung erkunden wir bei einem Dialogischen Rundgang die aktuelle Ausstellung
 . Anschliessend tauschen wir uns bei einem Apéritif im Bistro aus.\n\nDie 
 Ausstellungen im Stapferhaus laden auf unterhaltsame Art und Weise zur kri
 tischen Auseinandersetzung ein. Im Fokus stehen die grossen Fragen unserer
  Zeit. «Natur. Und wir?» ist wahrlich eine grosse Frage. Wir setzen uns da
 mit auseinander. www.stapferhaus.ch\n\nTreffpunkt und Programm:\nMontag\, 
 30. Januar 2023\, 14:00 Eintreffen / Eintritt lösen\n14:15 Beginn des Dial
 ogischen Rundganges\n15:45 Apéritif / z’Vieri im Stapferhaus\n16:45 Auskla
 ng * Auf Wiedersehen\n\nKosten:\nEintritt CHF 18. (Museumspass / Raiffeise
 nkarte gültig). Bitte den Eintritt vor Führungsbeginn an der Kasse lösen.
 \nBPW Club Baden und Lenzburg laden zur Führung ein.\nApéritif pauschal CH
 F 20.00 / Person.\n\nAnmeldung bis Fr 20. Januar 2023 per Mail an: anita.r
 oesch@bluewin.ch\n\nWir freuen uns auf Deinen / Euren Besuch und grüssen h
 erzlich.\nAnita Rösch Egli I Helene Thürig I Verena Eberhard\n
DTSTART:20230130T140000
DTEND:20230130T161500
LOCATION:Stapferhaus Lenzburg
ORGANIZER:MAILTO:BPW Switzerland <admin@bpw-baden.ch>
SUMMARY:Ausstellungsbesuch: 'Natur. Und wir?'
END:VEVENT
END:VCALENDAR
