BEGIN:VCALENDAR
VERSION:2.0
PRODID:-//BPW Switzerland//NONSGML kigkonsult.se iCalcreator 2.16.12//
METHOD:PUBLISH
X-MS-OLK-FORCEINSPECTOROPEN:TRUE
BEGIN:VEVENT
UID:20260422T231654CEST-2161w5G9mJ@BPW Switzerland
DTSTAMP:20260422T211654Z
DESCRIPTION:\n\n\nAls Hexe verbrannt\, als Dienstbotin schikaniert\, als mi
 ldtätige Adelige verehrt\, als kämpferische Künstlerin\, Industriellentoch
 ter oder Politikerin bewundert – diese Stadtführung rückt die Frauen der B
 adener Geschichte ins Zentrum\n\nMit lautstarker Unterstützung der Kirche 
 wurden die Frauen als Lockvogel des Teufels und Missgeburt der Natur bezei
 chnet\, selbst Reformatoren nannten sie «ein halbes Kind» oder «ein tolles
  Tier». Erst im 20. Jahrhundert beginnen sich die Rechte der Frauen zögerl
 ich zu verbessern. Auf dem Spaziergang vom Bahnhofplatz bis zur Villa Bove
 ri erfährt man bewegende Geschichten und Taten von in Baden lebenden Fraue
 n – einst und heute.\n\nWir freuen uns sehr\, uns wieder begegnen zu dürfe
 n und bieten gemeinsam  mit dem BPW Club Lenzburg die spannende Stadtführu
 ng über die kämpferischen und starken Frauen in Baden an. Nach dem Spazier
 gang vom Bahnhofplatz bis zur Villa Boveri\, erwartet uns ein feines Mitta
 gessen auf dem Kirchenplatz Mitten in der Stadt Baden.\n\nTreffpunkt:\n10.
 15 Uhr Info Baden\, Oberer Bahnhofplatz Baden\n10.30 Uhr Beginn der Stadtf
 ührung\, Dauer 1.5 Std.\n12.15 Uhr:  Mittagessen im Restaurant Roter Turm\
 , Rathausgasse 5\, Baden\nca 14.30 Uhr: Wir sagen auf Wiedersehen!\n\nKost
 en: Mittagessen und Getränke. Zur Stadtführung laden die Clubs Baden und L
 enzburg ein.\n\nAnmeldung bis 27. Mai an anita.roesch@bluewin.ch\nBitte an
 geben\, ob Vegi- oder Fleisch-Menu.\n\nWir freuen uns auf Deinen / Euren B
 esuch und grüssen herzlich Helene Thürig\, Verena Eberhard und Anita Rösch
  Egli\n
DTSTART:20220608T101500
DTEND:20220608T143000
ORGANIZER:MAILTO:BPW Switzerland <admin@bpw-baden.ch>
SUMMARY:Stadtführung: Geschichten von Frauen die Baden und die Welt bewegte
 n
END:VEVENT
END:VCALENDAR
