BEGIN:VCALENDAR
VERSION:2.0
PRODID:-//BPW Switzerland//NONSGML kigkonsult.se iCalcreator 2.16.12//
METHOD:PUBLISH
X-MS-OLK-FORCEINSPECTOROPEN:TRUE
BEGIN:VEVENT
UID:20260422T232406CEST-4569gMv4D6@BPW Switzerland
DTSTAMP:20260422T212406Z
DESCRIPTION:Im Rahmen einer BPW+ Veranstaltung und organisiert vom BPW Club
  Lenzburg besuchen wir gemeinsam die spannende Ausstellung 'Zeitgeschichte
  Aarau 1950 - 2000' im Stadtmuseum Aarau.\n\nProgramm:\nTreffpunkt: 13.15 
 Uhr\, Eingang Stadtmuseum Aarau\, Schlossplatz 23\, in Aarau\nEintritt ind
 ividuell / Museumspass gültig\nFührung: 13.30 Uhr – 14.30 Uhr (von BPW+ üb
 ernommen)\nNach einer Kaffeepause: Individueller Rundgang bis 15.45 Uhr\n
 \nAnschliessend spazieren wir mit Vreni Leiser zu ihrer Wohnung ganz in de
 r Nähe\, wo sie uns zu einem Apéro einlädt.\n\nAnmeldung: bis spätestens S
 onntagabend\, 3. April 2022 an helene.thuerig@bluewin.ch oder verena.eberh
 ard@hotmail.com\noder telefonisch: 079 525 47 84 (Helene) / 079 229 43 18 
 (Verena)\n\nWir freuen uns auf euch!\nHelene und Verena\n
DTSTART:20220408T131500
DTEND:20220408T170000
LOCATION:Stadtmuseum Aarau 
ORGANIZER:MAILTO:BPW Switzerland <admin@bpw-baden.ch>
SUMMARY:Zeitgeschichte Aargau 1950 - 2000
END:VEVENT
END:VCALENDAR
