BEGIN:VCALENDAR
VERSION:2.0
PRODID:-//BPW Switzerland//NONSGML kigkonsult.se iCalcreator 2.16.12//
METHOD:PUBLISH
X-MS-OLK-FORCEINSPECTOROPEN:TRUE
BEGIN:VEVENT
UID:20260422T203645CEST-3453CdAJpZ@BPW Switzerland
DTSTAMP:20260422T183645Z
DESCRIPTION:Mit Christina Hegi\, Geschäftsführerin der Regionalstelle Aarga
 u/Solothurn Ost\, und Anita Rösch Egli\, freiwillige Mitarbeiterin\n\n«Es 
 wird immer alles gleich ein wenig anders\, wenn man es ausspricht»\, sagt 
 Siddhartha in der gleichnamigen Erzählung von Hermann Hesse. Diese Erfahru
 ng machen Menschen in Not\, die bei der Dargebotenen Hand anrufen. Sie fin
 den rund um die Uhr eine Ansprechperson\, die sich Zeit nimmt für ihre Anl
 iegen. Anonym\, unvoreingenommen und kostenlos.\n\nPassend zu unserem Jahr
 esthema 'Ein Jahr mit ganz viel Herz' erfahren wir an diesem Abend ganz vi
 el über die spannende und wichtige Tätigkeit der Dargebotenen Hand - Telef
 on 143:\n\nChristina Hegi stellt uns die Organisation vor. Unsere BPW Anit
 a Rösch Egli ist seit einigen Jahren eine der schweizweit rund 600 freiwil
 ligen Mitarbeiter*innen bei Tel 143 und berichtet aus ihrem Alltag am Tele
 fon und im Chat. Die Dargebotene Hand\n\nAb 18.15 Uhr: Eintreffen und Apér
 o im Hotel Du Parc\nAbendessen und Referat: 19 Uhr\n\nAnmeldung: Bitte sch
 ickt uns eure Anmeldung zu diesem Herzensanlass bis am Sonntag\, 13. Novem
 ber\, an admin@bpw-baden.ch \n\n \n
DTSTART:20221116T181500
DTEND:20221116T220000
LOCATION:Hotel Du Parc
ORGANIZER:MAILTO:BPW Switzerland <admin@bpw-baden.ch>
SUMMARY:Telefon 143 - Die Dargebotene Hand
END:VEVENT
END:VCALENDAR
