BEGIN:VCALENDAR
VERSION:2.0
PRODID:-//BPW Switzerland//NONSGML kigkonsult.se iCalcreator 2.16.12//
METHOD:PUBLISH
X-MS-OLK-FORCEINSPECTOROPEN:TRUE
BEGIN:VEVENT
UID:20260422T203651CEST-7528ZgW0Bp@BPW Switzerland
DTSTAMP:20260422T183651Z
DESCRIPTION:Freies Malen - Kreativworkshop mit unserem BPW-Mitglied Solange
  Baeriswyl in ihrem Atelier im Merkerareal\n\nIm freien Malen lassen wir d
 en Alltag hinter uns und gehen zusammen mit anderen Frauen auf eine kreati
 ve Entdeckungsreise. Es braucht kein Talent und auch keine Idee\, was man 
 (rsp. Frau) malen könnte. Es braucht auch keine zeichnerischen Vorkenntnis
 se. Jede Frau kann mitmachen.\n\nEs genügt\, Lust auf Farben zu haben\, Lu
 st zu erforschen\, was auf einem Blatt entsteht\, unter kundiger Begleitun
 g. Das Material\, sowie Anregungen und Hilfe\, werden zur Verfügung gestel
 lt. Du kannst aus dem Vollen schöpfen\, experimentieren\, ohne Leistungsdr
 uck und Beurteilung.\n\nWir malen mit wasserlöslichen Gouachefarben von se
 hr guter Qualität. Sie sind deckend\, man kann damit in mehrere Schichten 
 übereinander malen.\nBitte bringe entweder eine Schürze oder eine alte Blu
 se mit und bequeme Raumschuhe.\n\nDa max. 7 Frauen gemeinsam in Solange's 
 Atelier malen können\, werden wir zwei Gruppen machen\, die zeitlich nache
 inander starten. Dazwischen werden wir alle gemeinsam essen. www.atelier-a
 ufleben.ch \n\nAblauf und Programm:\n16.45 - 18.30 Uhr: Die erste Gruppe v
 on 7 Frauen trifft sich direkt in Solange's Atelier im Merkerareal\n18.30 
 - 20.00 Uhr: Alle Teilnehmerinnen treffen sich im Restaurant Rampe\, Merke
 rareal\, Bruggerstrasse 37\, in Baden\, zum Abendessen\n20.00 - 21.45 Uhr:
  Die zweite Malgruppe geht vom Restaurant Rampe direkt ins Atelier von Sol
 ange.\n\nIn der Rampe ist für uns ein Tisch schon ab 18 Uhr bis zum Schlus
 s reserviert. Ihr dürft also gerne schon früher (Gruppe 2) oder nach dem E
 ssen noch länger (Gruppe 1) zusammenhöcklen :)\nDer Preis für das Abendess
 en im Restaurant Rampe beträgt CHF 50.-/ Frau\, exkl. Getränke. Der Apérow
 ein übernimmt der BPW Club.\n\nZur Anmeldung:\nAnmeldung für diesen farben
 fröhlichen Anlass bitte bis spätestens Freitag\, 14.10.2022 an: admin@bpw-
 baden.ch\n\nWichtig: Bitte gib uns Bescheid\, in welcher Gruppe (Gruppe 1 
 oder Gruppe 2) du malen möchtest. Die Teilnehmerzahl ist beschränkt. Insge
 samt gibt es maximal 7 Plätze pro Gruppe - also melde dich am besten gleic
 h an. Lasst euch auf ein Abenteuer ein und geniesst mit uns einen kreative
 n Abend.\n\n \n\n \n
DTSTART:20221018T181500
DTEND:20221018T220000
LOCATION:Atelier aufleben\, Merkerareal
ORGANIZER:MAILTO:BPW Switzerland <admin@bpw-baden.ch>
SUMMARY:Freies Malen - Kreativworkshop mit Solange Baeriswyl
END:VEVENT
END:VCALENDAR
