BEGIN:VCALENDAR
VERSION:2.0
PRODID:-//BPW Switzerland//NONSGML kigkonsult.se iCalcreator 2.16.12//
METHOD:PUBLISH
X-MS-OLK-FORCEINSPECTOROPEN:TRUE
BEGIN:VEVENT
UID:20260422T215800CEST-9513j45Rkl@BPW Switzerland
DTSTAMP:20260422T195800Z
DESCRIPTION:Mit Petra Benedikt\, Mentorin \n \nPolyamorie steht für: \nPoly
  = viel \namor = Liebe \ndas i steht für die Philosophie. \n  \nPetra Bene
 dikt begleitet Menschen\, die für sich gemerkt haben\, dass die gängigen B
 eziehungsmodelle für sie nicht passend sind. In den letzten Jahren hat sie
  ihre Liebes-Verbindungen mit viel Liebe erweitert und sich mit Themen wie
  zum Beispiel Eifersucht und Verlustangst auseinandergesetzt. Jetzt betreu
 t Petra Benedikt achtsam Menschen\, die auf dem Weg sind\, ihre authentisc
 he und stimmige Liebes- und Beziehungsform zu entwickeln – sei es monogam\
 , offen oder polyamor. Petra Benedikt\n\nEintreffen und Apéro im Hotel Du 
 Parc: Ab 18.15 Uhr\nAbendessen und Vortrag: 19 Uhr\n\nAnmeldung: Bitte bis
  spätestens am Montag\, 19. September\, per E-Mail an admin@bpw-baden.ch\n
  \n\n \n
DTSTART:20220922T181500
DTEND:20220922T220000
LOCATION:Hotel Du Parc
ORGANIZER:MAILTO:BPW Switzerland <admin@bpw-baden.ch>
SUMMARY:Mentoring für die Liebe - Polyamorie
END:VEVENT
END:VCALENDAR
