BEGIN:VCALENDAR
VERSION:2.0
PRODID:-//BPW Switzerland//NONSGML kigkonsult.se iCalcreator 2.16.12//
METHOD:PUBLISH
X-MS-OLK-FORCEINSPECTOROPEN:TRUE
BEGIN:VEVENT
UID:20260422T214844CEST-0599tWFKVf@BPW Switzerland
DTSTAMP:20260422T194844Z
DESCRIPTION:Anwaltsalltag zwischen Gefängnismauern\, Polizeivernahmen\nund 
 Gerichtsverhandlungen - Aus dem Leben einer Strafverteidigerin\n\nUnser ne
 ues Mitglied Renate Senn erzählt uns aus ihrem Leben als Anwältin und Stra
 fverteidigerin:\nWie fühlt es sich hinter Gefängnismauern an? Wie laufen G
 espräche mit beschuldigten Personen? Ist eine Gerichtsverhandlung anstreng
 end? Und wie gelingt es\, privat abzuschalten? Kann und darf man fröhlich 
 sein als Strafverteidigerin?\n\nAls selbständige Rechtsanwältin und Strafv
 erteidigerin blicke ich seit 22 Jahren in viele menschliche Abgründe und e
 rlebe menschliche Tragödien. Gerne erzähle ich über meinen tollen Beruf\, 
 der nicht nur im Büro stattfindet.\n\n18.15 Uhr: Apéro\n19 Uhr: Abendessen
 \, anschliessend Referat von Renate Senn\n\nWir freuen uns auf einen super
  interessanten Abend mit euch.\n\nBitte meldet euch bis spätestens Sonntag
 \, 21.08.2022\, per E-Mail an: admin@bpw-baden.ch.\n\n \n
DTSTART:20220824T181500
DTEND:20220824T220000
LOCATION:Hotel Du Parc
ORGANIZER:MAILTO:BPW Switzerland <admin@bpw-baden.ch>
SUMMARY:Anwaltsalltag zwischen Gefängnismauern\, Polizeivernahmen und Geric
 htsverhandlungen 
END:VEVENT
END:VCALENDAR
