BEGIN:VCALENDAR
VERSION:2.0
PRODID:-//BPW Switzerland//NONSGML kigkonsult.se iCalcreator 2.16.12//
METHOD:PUBLISH
X-MS-OLK-FORCEINSPECTOROPEN:TRUE
BEGIN:VEVENT
UID:20260422T220450CEST-4101UJKVJU@BPW Switzerland
DTSTAMP:20260422T200450Z
DESCRIPTION:Mit Prof. Dr. Cathérine Gebhard\, Kardiologin und Gendermedizin
 erin\n\nIn der Medizin gilt nach wie vor der Mann als Prototyp\, obwohl di
 e Wirksamkeit und der Abbau von Medikamenten bei Frauen und Männern sehr u
 nterschiedlich sein können. Auch bei Herz-Kreislauf-Erkrankungen sind Diag
 nose\, Behandlung und Rehabilitation auf Männer fokussiert. Mit fatalen Fo
 lgen: Frauen sterben häufiger an Herzinfarkten als Männer.\n\nTrotz dieser
  Warnzeichen ist unzureichend erforscht\, welche Faktoren für die erhöhte 
 Vulnerabilität von Frauen für Herz-Kreislaufkrankheiten verantwortlich sin
 d. Cathérine Gebhard wird in ihrem Referat über die Problematik einer gesc
 hlechts-unspezifischen Medizin berichten und darlegen\, auf was Frauen bei
  der Vorsorge von Herz-Kreislauferkrankungen besonders achten sollten.\n\n
 Eintreffen und Apéro im Hotel Du Parc: ab 18.15 Uhr\n19 Uhr: Abendessen un
 d Referat\n \n\n \n
DTSTART:20220623T181500
DTEND:20220623T220000
LOCATION:Hotel Du Parc
ORGANIZER:MAILTO:BPW Switzerland <admin@bpw-baden.ch>
SUMMARY:Frauenherzen = Männerherzen? Mitnichten!
END:VEVENT
END:VCALENDAR
