BEGIN:VCALENDAR
VERSION:2.0
PRODID:-//BPW Switzerland//NONSGML kigkonsult.se iCalcreator 2.16.12//
METHOD:PUBLISH
X-MS-OLK-FORCEINSPECTOROPEN:TRUE
BEGIN:VEVENT
UID:20260422T232206CEST-43474T8WXN@BPW Switzerland
DTSTAMP:20260422T212206Z
DESCRIPTION:Mit Dieter Hermann\, Geschäftsführer Hospiz Aargau\n\nAnders al
 s in anderen Ländern\, hat es die Hospizidee nach wie vor schwer\, in der 
 Schweiz Fuss zu fassen. Eine Handvoll arbeitende Hospize und einige Initia
 tiven versuchen seit fast 30 Jahren\, ein spezielles Angebot für ein würde
 volles und gut begleitetes Sterben aufrechtzuerhalten – ein Sterben mit He
 rz.\n\nDieter Herrmann stellt uns in seinem Referat den Verein «Hospiz Aar
 gau» vor\, der seit 1994 ambulante und stationäre Leistungen rund um die T
 hemen Sterben – Tod – Trauer anbietet und wirft auch einen Blick auf natio
 nalen Bestrebungen. Hospiz Aargau\n\nAb 18.15 Uhr: Apéro im Restaurant DuP
 arc\, Baden\n19 Uhr: Abendessen und Referat\n\n \n
DTSTART:20220518T181500
DTEND:20220518T220000
LOCATION:Hotel Du Parc
ORGANIZER:MAILTO:BPW Switzerland <admin@bpw-baden.ch>
SUMMARY:Würdevoll und gut begleitet sterben - die Hospizarbeit in der Schwe
 iz
END:VEVENT
END:VCALENDAR
