BEGIN:VCALENDAR
VERSION:2.0
PRODID:-//BPW Switzerland//NONSGML kigkonsult.se iCalcreator 2.16.12//
METHOD:PUBLISH
X-MS-OLK-FORCEINSPECTOROPEN:TRUE
BEGIN:VEVENT
UID:20260422T220606CEST-5018tJEfus@BPW Switzerland
DTSTAMP:20260422T200606Z
DESCRIPTION:Mit Nadia Kartnaller\, Vorsorgeberaterin\, und Stephanie Köpfli
  Loser\, Niederlassungsleiterin im VZ VermögensZentrum Baden\n\nSoll ich m
 ein Pensionskassenguthaben als Rente oder Kapital beziehen? Kann ich mir e
 ine Frühpensionierung leisten? Wann lohnt sich ein Einkauf in meine Pensio
 nskasse? Wie kann ich nach der Pensionierung mein Einkommen aus dem Vermög
 en sichern?\n\nJährlich planen über 6‘000 Kunden Ihre Pensionierung und di
 e Zeit danach mit dem VZ VermögensZentrum. Die Jahre vor der Pensionierung
  ist der wichtigste Abschnitt\, um Ihren Ruhestand optimal aufzugleisen.\n
 \nNadia Kartnaller und Stephanie Köpfli Loser informieren uns über den Auf
 bau des Schweizer Vorsorgesystems und die wichtigsten Entscheidungsgrundla
 gen betreffend Frühpensionierung\, Bezugsform des Pensionskassenguthabens 
 und Veränderung der Steuersituation.\nVZ Vermögenszentrum Baden\n\n18.15 U
 hr: Eintreffen und Apéro im Restaurant Du Parc\, Baden\n19 Uhr: Abendessen
  und Referat\n\nAnmeldung bitte bis am 20.4.2022 an: admin@bpw-baden.ch\n
 \n \n
DTSTART:20220426T181500
DTEND:20220426T220000
LOCATION:Hotel Du Parc
ORGANIZER:MAILTO:BPW Switzerland <admin@bpw-baden.ch>
SUMMARY:Pensionierung richtig geplant
END:VEVENT
END:VCALENDAR
