BEGIN:VCALENDAR
VERSION:2.0
PRODID:-//BPW Switzerland//NONSGML kigkonsult.se iCalcreator 2.16.12//
METHOD:PUBLISH
X-MS-OLK-FORCEINSPECTOROPEN:TRUE
BEGIN:VEVENT
UID:20260422T203647CEST-5845oUegIu@BPW Switzerland
DTSTAMP:20260422T183647Z
DESCRIPTION:\nWir treffen uns zur jährlichen Mitgliederversammlung\n\n\n\n
 \n\nDie stimmberechtigten Clubmitglieder erhalten die Unterlagen (Traktand
 en\, Jahresbericht\, Jahresrechnung und Budget 2022/23) per Post. Interess
 entinnen und Gäste (nicht stimmberechtigt) sind ebenfalls herzlich willkom
 men.\n\nBitte schickt allfällige Anträge bis spätestens 16.03.2023 in schr
 iftlicher Form an admin@bpw-baden.ch.\nAnmeldungen zur MV bitte bis spätes
 tens Montag\, 20. März 2023\, an admin@bpw-baden.ch.\n\nProgramm:\n18.15 U
 hr: Eintreffen in der Apéro Lounge im Hotel Du Parc\, Baden\n19 Uhr: Mitgl
 iederversammlung\n20.15 Uhr: Abendessen\n\nWir freuen uns\, möglichst viel
 e von euch an unserer Mitgliederversammlung zu sehen!\n\n\n \n\n \n
DTSTART:20230323T181500
DTEND:20230323T220000
LOCATION:Hotel Du Parc
ORGANIZER:MAILTO:BPW Switzerland <admin@bpw-baden.ch>
SUMMARY:47. Mitgliederversammlung
END:VEVENT
END:VCALENDAR
