BEGIN:VCALENDAR
VERSION:2.0
PRODID:-//BPW Switzerland//NONSGML kigkonsult.se iCalcreator 2.16.12//
METHOD:PUBLISH
X-MS-OLK-FORCEINSPECTOROPEN:TRUE
BEGIN:VEVENT
UID:20260422T203718CEST-91146E29jV@BPW Switzerland
DTSTAMP:20260422T183718Z
DESCRIPTION:\n\n\nLiebe Mitglieder\, Interessentinnen und Gäste\,\nGerne la
 den wir euch zur festelichen Kerzenlichtfeier im Atrium Hotel und Restaura
 nt Blume ein\n\nProgramm: \n18.15 Uhr Eintreffen und Apéro im Atrium Hotel
  und Restaurant Blume\n19.00 Uhr Beginn des Abendessens\n\nMit der traditi
 onellen Zeremonie feiern wir die Kerzenlichtfeier im Gedenken an die Gründ
 erin Dr. Lena Madesin Philips und die Gründerländer von 1930. Dank ihnen i
 st das heute weltumspannende Mitgliedernetzwerk entstanden. Für jeden Kont
 inent und dessen Länder zünden wir eine Kerze an. Somit werden wir an die 
 BPW Clubs in aller Welt\, unsere gemeinsamen Ziele und Werte denken und un
 sere Verbundenheit mit ihnen sichtbar machen.\n\nFolgende Parkplätze könne
 n genutzt werden:\n- Parkhaus Zentrum in Ennetbaden genutzt werden und via
  Mercier Steg zu  Fuss zur Blume\n- Parkhaus des Fortyseven\, dann zu Fuss
 \n- Zubringerdienst für jene\, die nicht gut zu Fuss sind\, ist ebenfalls 
 erlaubt\n\nProgramm: \n18.15 Uhr Eintreffen und Apéro im Atrium Hotel und 
 Restaurant Blume\n19.00 Uhr Beginn des Abendessens\n\nMenüwahl: Bitte gib 
 bei der Anmeldung die Menüwahl (Fleisch oder Vegi) an:\n\n\n	\n		\n			\n			Apéro:\n
 			\n			\n			Weisswein\, Orangensaft und Mineralwasser\, etwas Kleines zum Knabbern
 \n			\n		\n		\n			\n			Vorspeise:\n			\n			\n			Kräuterschaumsuppe mit Dumpling\, gefüllt mit 
 grilliertem Broccoli und Mandeln\n			\n		\n		\n			\n			Hauptgang Fleisch:\n			\n			\n			Kalbssal
 timbocca mit grünen Bohnen und Safranrisotto\n			\n		\n		\n			\n			Hauptgang Vegi:\n			\n
 			\n			Gebratene Randengnocchis mit sautierten Waldpilzen\, Blattspinat und Bel
 perknolle\n			\n		\n		\n			\n			Kaffee oder Tee:\n			\n			\n			und Friandises\n			\n		\n		\n			\n			Weisswein
 :\n			\n			\n			Wettinger AMMONIT Blanc de Noir\, 2020\n			\n		\n		\n			\n			Rotwein:\n			\n			\n			Wetti
 nger AMMONIT Pinot Noir\, 2018\n			\n		\n	\n\n\nKosten: Interessentinnen und Gäs
 te bezahlen Fr. 80.-- für das Festmenü\, für die BPW Clubmitglieder ist es
  im Jahresbeitrag inbegriffen.\n\nAnmeldung:\nBis spätestens Dienstag\, 14
 . Februar 2023\, per Mail an admin@bpw-baden.ch - bitte Menüwahl nicht ver
 gessen.\n\nWir freuen uns sehr auf den gemeinsamen\, feierlichen Abend in 
 Baden.\n
DTSTART:20230222T181500
DTEND:20230222T191500
LOCATION:Atrium Hotel und Restaurant Blume
ORGANIZER:MAILTO:BPW Switzerland <admin@bpw-baden.ch>
SUMMARY:Traditionelle Kerzenlichtfeier im Atrium Hotel und Restaurant Blume
END:VEVENT
END:VCALENDAR
