BEGIN:VCALENDAR
VERSION:2.0
PRODID:-//BPW Switzerland//NONSGML kigkonsult.se iCalcreator 2.16.12//
METHOD:PUBLISH
X-MS-OLK-FORCEINSPECTOROPEN:TRUE
BEGIN:VEVENT
UID:20260422T220528CEST-2433lH7RHu@BPW Switzerland
DTSTAMP:20260422T200528Z
DESCRIPTION: \n\n\n\n\n\nDie Koch-Instruktorin Nicole Frey hat das Kochlabe
 l 'einwandfrey kochen' ins Leben gerufen und konzentriert sich auf eine be
 wusste\, abwechslungsreiche und gesunde Ernährung – die gleichzeitig unkom
 pliziert und ohne grossen Aufwand zubereitet werden kann. Sie verwendet da
 bei vor allem regionale und saisonale Zutaten in BIO-Qualität.\n\nGemeinsa
 m mit Nicole kochen wir dieses leckere Menü:\n    Grillpeperoni auf Joghur
 t (mit oder ohne Fleisch)\n              ***\ngefüllte Aubergine und Buchw
 eizensalat (mit oder ohne Fleisch)\n               ***\n            Karott
 en Tiramisu\n\nDie Koch-Session dauert ca. 1h 15min. Danach können alle\, 
 die Lust haben\, online gemeinsam das selber zubereitete Essen geniessen u
 nd den Abend mit tollen Gesprächen ausklingen lassen.\n\nZutaten: Ein paar
  Tage vor dem 20.01. erhaltet ihr von uns die Liste mit den Zutaten – es s
 ind alles Dinge\, die ihr einfach im Coop oder in der Migros einkaufen kön
 nt. Danach kochen wir alle gemeinsam mit Nicole\, die uns online live durc
 h die einzelnen Schritte führt.\n\n«Kochen ist meine Passion. Ich liebe es
 \, zu tüfteln und zu kreieren. Beim Ausprobieren von Trends und Philosophi
 en anderer Köche und Kulturen hängt meine Seele in der Hängematte ab und l
 ässt die Kreativität draussen herumtoben.\nIch probiere gerne Neues aus\, 
 denn es gibt so viele tolle Kochrichtungen und herrliche Geschmackskombina
 tionen. Eines bleibt bei all meiner geliebten Abwechslung aber immer gleic
 h: gesund muss es sein\, da versteht sich BIO und lokal von selbst. Und ab
  und zu gehört etwas Süsses auf den Teller…»  einwandfreykochen.ch\n\nKost
 en: pro Person CHF 25.00 + Kosten für den Einkauf\nAnmeldungen für diesen 
 leckeren Abend: bitte bis Sonntag\, 16.01.2022 an: admin@bpw-baden.ch\nDen
  Link mit dem Login zum Live online Kochkurs schicken wir euch einige Tage
  vorher per Email zu.\n\n \n\n \n
DTSTART:20220120T180000
DTEND:20220120T191500
LOCATION:online - bei dir in deiner Küche!
ORGANIZER:MAILTO:BPW Switzerland <admin@bpw-baden.ch>
SUMMARY:Live - online-Kochkurs mit Nicole Frey von 'einwandfrey kochen'
END:VEVENT
END:VCALENDAR
