BEGIN:VCALENDAR
VERSION:2.0
PRODID:-//BPW Switzerland//NONSGML kigkonsult.se iCalcreator 2.16.12//
METHOD:PUBLISH
X-MS-OLK-FORCEINSPECTOROPEN:TRUE
BEGIN:VEVENT
UID:20260422T232119CEST-1403FgCkCo@BPW Switzerland
DTSTAMP:20260422T212119Z
DESCRIPTION:\n \n\nWir freuen uns\, euch zum Zoom-Anlass 'Glücklich ins neu
 e Jahr' einzuladen!\nDa der Neujahrsapéro aufgrund der aktuellen Lage nich
 t im gewohnten Rahmen stattfinden kann\, möchten wir euch etwas nicht mind
 er Spannendes und Fröhliches anbieten:\n\nPsychologin und BPW Davos-Kloste
 rs Mitglied Annemieke Balk führt euch durch den ca. 1 - max. 1.5 Stunden d
 auernden Abend zum Thema 'Glücklich ins neue Jahr'. Neben vielen spannende
 n Tipps zur mentalen Gesundheit zeigt euch Annemieke auch einfache Übungen
 \, die die Laune und Stimmung erwiesenermassen positiv beeinflussen. Natür
 lich dürfen Fragen gestellt werden. Wir freuen uns auf einen regen Austaus
 ch und das eine oder andere fröhliche Lachen am und nach dem virtuellen An
 lass.\n\nMöchtest du dabei sein? Dann trag dich hier bis zum Dienstag\, 19
 . Januar 2021 ein.\n\nUnd hier geht es zum Zoom:\nThema: BPW-Zoom 'Glückli
 ch ins neue Jahr'\nUhrzeit: 20.Jan.2021 07:00 PM Paris\n\nZoom-Meeting bei
 treten\nhttps://us02web.zoom.us/j/82319373833?pwd=UnIvRkNQOHpjS3Z0VHZoeTJU
 ZDg3Zz09\n\nMeeting-ID: 823 1937 3833\nKenncode: 835818\nSchnelleinwahl mo
 bil\n+41225910156\,\,82319373833#\,\,\,\,*835818# Schweiz\n+41315280988\,\
 ,82319373833#\,\,\,\,*835818# Schweiz\n\nP.S.\, ganz wichtig: Wer möchte\,
  kann sich etwas Feines zum Anstossen bereitstellen - so können wir wenigs
 tens ein bisschen feiern. \n\n\n
DTSTART:20210120T190000
DTEND:20210120T203000
LOCATION:Online
ORGANIZER:MAILTO:BPW Switzerland <admin@bpw-baden.ch>
SUMMARY:Glücklich ins neue Jahr
END:VEVENT
END:VCALENDAR
