BEGIN:VCALENDAR
VERSION:2.0
PRODID:-//BPW Switzerland//NONSGML kigkonsult.se iCalcreator 2.16.12//
METHOD:PUBLISH
X-MS-OLK-FORCEINSPECTOROPEN:TRUE
BEGIN:VEVENT
UID:20260423T115145CEST-4614hsKgV4@BPW Switzerland
DTSTAMP:20260423T095145Z
DESCRIPTION:\nSie spielen mit dem Gedanken\, sich im Vorstand Ihres BPW Clu
 bs zu engagieren? Wissen aber (noch) nicht so recht\, was Sie dort erwarte
 t und was von Ihnen erwartet wird? \n\nSie sind bereits im Vorstand\, möch
 ten aber gern mehr über den Verband und die Möglichkeiten\, die BPW Ihnen 
 bieten erfahren?\n\nSie möchten sich (noch) besser vernetzen mit anderen V
 orstandsmitgliedern in der ganzen Schweiz?\n\nDas Programm:\n\n\n	\n	Geschic
 hte\, Ziele und Werte von BPW\n	\n	\n	Jahresprogramm 2021\, Inhalte und Daten
 \n	\n	\n	BPW International/Europe \n	\n	\n	Equal Pay und Equal Representation\n	
 \n	\n	Zusammenarbeit mit der Geschäftsstelle\, Finanzen\n	\n	\n	Mitgliedschafte
 n (Firmen\, Youngs etc.)\, Mentoring und Karriere\n	\n	\n	Führung in der ehre
 namtlichen Arbeit\n	\n\n\n\nZum Schluss werden wir Gelegenheit haben\, uns 
 in kleineren Gruppen auszutauschen und zu netzwerken.\n\nWir freuen uns au
 f Ihre Anmeldung! Der Workshop findet dieses Jahr online via Zoom statt. D
 er Zugangslink wird kurz vor der Veranstaltung per Mail versendet. \n \n\n
DTSTART:20210206T090000
DTEND:20210206T113000
LOCATION:Online via Zoom
ORGANIZER:MAILTO:BPW Switzerland <admin@bpw-baden.ch>
SUMMARY:Workshop für zukünftige Vorstandsmitglieder
END:VEVENT
END:VCALENDAR
