BEGIN:VCALENDAR
VERSION:2.0
PRODID:-//BPW Switzerland//NONSGML kigkonsult.se iCalcreator 2.16.12//
METHOD:PUBLISH
X-MS-OLK-FORCEINSPECTOROPEN:TRUE
BEGIN:VEVENT
UID:20260422T203910CEST-0399zcai64@BPW Switzerland
DTSTAMP:20260422T183910Z
DESCRIPTION:Mit Brigit Kollmeyer\, Diplompsychologin und Paartherapeutin\n
 \nEine langfristige glückliche Paarbeziehung wünschen sich die meisten von
  uns. Und dennoch ist es eine grosse Herausforderung\, sie zu führen: Zwei
  Menschen haben in der Regel unterschiedliche Bedürfnisse – oft auch im se
 xuellen Bereich – und Krisen und Probleme gehören zu einer Partnerschaft h
 inzu.\n\nWelche Möglichkeiten gibt es für ein Paar\, sich emotionale und k
 örperliche Nähe zu erhalten? Wie können die beiden miteinander im Austausc
 h bleiben\, Konflikte bewältigen und auch mit Hindernissen im Bereich der 
 Sexualität wie z.B. sexueller Lustlosigkeit umgehen? Wann wäre eine Paar- 
 und/oder Sexualberatung hilfreich und welche Angebote gibt es?\n\nBrigit K
 ollmeyer teilt mit uns ihre Erfahrungen als Paartherapeutin und Sexualbera
 terin. Sie hat eine eigene Praxis in Bern\, arbeitet in der Paarberatung u
 nd Mediation Zürich und ist Co-Autorin des Buches Partnerschaft und Sexual
 ität – Paare in Beratung und Therapie.  Paartherapie in Bern\n\nAb 18.15 U
 hr: Eintreffen und Apéro im Hotel Du Parc\n19 Uhr: Abendessen und Referat
 \n\nAnmeldung für den Herzensanlass bis am Sonntag\, 6.1.2023 an admin@bad
 en-bpw.ch\n\n \n
DTSTART:20230117T181500
DTEND:20230117T220000
LOCATION:Hotel Du Parc
ORGANIZER:MAILTO:BPW Switzerland <admin@bpw-baden.ch>
SUMMARY:Glück in einer langfristigen Partnerschaft - geht das?
END:VEVENT
END:VCALENDAR
